BEGIN:VCALENDAR
VERSION:2.0
PRODID:-//Piedmont Dart Association - ECPv6.15.20//NONSGML v1.0//EN
CALSCALE:GREGORIAN
METHOD:PUBLISH
X-ORIGINAL-URL:https://www.piedmontdarts.org
X-WR-CALDESC:Events for Piedmont Dart Association
REFRESH-INTERVAL;VALUE=DURATION:PT1H
X-Robots-Tag:noindex
X-PUBLISHED-TTL:PT1H
BEGIN:VTIMEZONE
TZID:America/New_York
BEGIN:DAYLIGHT
TZOFFSETFROM:-0500
TZOFFSETTO:-0400
TZNAME:EDT
DTSTART:20250309T070000
END:DAYLIGHT
BEGIN:STANDARD
TZOFFSETFROM:-0400
TZOFFSETTO:-0500
TZNAME:EST
DTSTART:20251102T060000
END:STANDARD
BEGIN:DAYLIGHT
TZOFFSETFROM:-0500
TZOFFSETTO:-0400
TZNAME:EDT
DTSTART:20260308T070000
END:DAYLIGHT
BEGIN:STANDARD
TZOFFSETFROM:-0400
TZOFFSETTO:-0500
TZNAME:EST
DTSTART:20261101T060000
END:STANDARD
BEGIN:DAYLIGHT
TZOFFSETFROM:-0500
TZOFFSETTO:-0400
TZNAME:EDT
DTSTART:20270314T070000
END:DAYLIGHT
BEGIN:STANDARD
TZOFFSETFROM:-0400
TZOFFSETTO:-0500
TZNAME:EST
DTSTART:20271107T060000
END:STANDARD
END:VTIMEZONE
BEGIN:VEVENT
DTSTART;TZID=America/New_York:20260203T193000
DTEND;TZID=America/New_York:20260203T233000
DTSTAMP:20260421T093957
CREATED:20260128T171008Z
LAST-MODIFIED:20260128T184808Z
UID:3555-1770147000-1770161400@www.piedmontdarts.org
SUMMARY:Tuesday League - Horsemen of the Dartpocalypse vs Next Door Trippin
DESCRIPTION:A League Schedule
URL:https://www.piedmontdarts.org/event/tuesday-league-horsemen-of-the-dartpocalypse-vs-next-door-trippin-3/
CATEGORIES:Tuesday Night League
END:VEVENT
BEGIN:VEVENT
DTSTART;TZID=America/New_York:20260203T193000
DTEND;TZID=America/New_York:20260203T233000
DTSTAMP:20260421T093957
CREATED:20260128T171009Z
LAST-MODIFIED:20260128T184808Z
UID:3556-1770147000-1770161400@www.piedmontdarts.org
SUMMARY:Tuesday League - Off Constantly vs Wirey Bastards
DESCRIPTION:A League Schedule
URL:https://www.piedmontdarts.org/event/tuesday-league-off-constantly-vs-wirey-bastards-4/
LOCATION:Old Nick’s Pub Arcadia\, 206 Millers Creek Dr. Ste A\, Winston Salem\, NC\, 27127\, United States
CATEGORIES:Tuesday Night League
END:VEVENT
BEGIN:VEVENT
DTSTART;TZID=America/New_York:20260203T193000
DTEND;TZID=America/New_York:20260203T233000
DTSTAMP:20260421T093957
CREATED:20260128T171009Z
LAST-MODIFIED:20260128T184808Z
UID:3557-1770147000-1770161400@www.piedmontdarts.org
SUMMARY:Tuesday League - Treble Makers vs Rumple Steel Tips
DESCRIPTION:A League Schedule
URL:https://www.piedmontdarts.org/event/tuesday-league-treble-makers-vs-rumple-steel-tips-3/
LOCATION:Breakers\, 435 Dolley Madison Rd #G\, Greensboro\, 27410\, United States
CATEGORIES:Tuesday Night League
END:VEVENT
BEGIN:VEVENT
DTSTART;TZID=America/New_York:20260203T193000
DTEND;TZID=America/New_York:20260203T233000
DTSTAMP:20260421T093957
CREATED:20260128T180804Z
LAST-MODIFIED:20260128T185041Z
UID:3602-1770147000-1770161400@www.piedmontdarts.org
SUMMARY:Tuesday League - PointDexters vs Taking Flight
DESCRIPTION:B League Schedule
URL:https://www.piedmontdarts.org/event/tuesday-league-pointdexters-vs-taking-flight-4/
LOCATION:The Alibi Bar and Lounge\, 28 Salem St\, Thomasville\, NC\, 27360\, United States
CATEGORIES:Tuesday Night League
END:VEVENT
BEGIN:VEVENT
DTSTART;TZID=America/New_York:20260203T193000
DTEND;TZID=America/New_York:20260203T233000
DTSTAMP:20260421T093957
CREATED:20260128T180804Z
LAST-MODIFIED:20260128T185041Z
UID:3600-1770147000-1770161400@www.piedmontdarts.org
SUMMARY:Tuesday League - BullsHit vs Full of Bull
DESCRIPTION:B League Schedule
URL:https://www.piedmontdarts.org/event/tuesday-league-bullshit-vs-full-of-bull-3/
LOCATION:Breakers\, 435 Dolley Madison Rd #G\, Greensboro\, 27410\, United States
CATEGORIES:Tuesday Night League
END:VEVENT
BEGIN:VEVENT
DTSTART;TZID=America/New_York:20260203T193000
DTEND;TZID=America/New_York:20260203T233000
DTSTAMP:20260421T093957
CREATED:20260128T180804Z
LAST-MODIFIED:20260128T185041Z
UID:3601-1770147000-1770161400@www.piedmontdarts.org
SUMMARY:Tuesday League - Night Flights vs Old Darty Bastards
DESCRIPTION:B League Schedule
URL:https://www.piedmontdarts.org/event/tuesday-league-night-flights-vs-old-darty-bastards-3/
LOCATION:Village Square Tap House\, 6000 Meadowbrook Mall Ct #\, Clemmons\, 27012\, United States
CATEGORIES:Tuesday Night League
END:VEVENT
BEGIN:VEVENT
DTSTART;TZID=America/New_York:20260203T193000
DTEND;TZID=America/New_York:20260203T233000
DTSTAMP:20260421T093957
CREATED:20260128T180944Z
LAST-MODIFIED:20260128T185256Z
UID:3655-1770147000-1770161400@www.piedmontdarts.org
SUMMARY:Tuesday League - Freedom Fighters vs Little Debbie and the Snacks
DESCRIPTION:C League Schedule
URL:https://www.piedmontdarts.org/event/tuesday-league-freedom-fighters-vs-little-debbie-and-the-snacks-2/
LOCATION:Greensboro Elks Lodge\, 2201 W. Cornwallis Drive\, Greensboro\, NC\, 27408\, United States
CATEGORIES:Tuesday Night League
END:VEVENT
BEGIN:VEVENT
DTSTART;TZID=America/New_York:20260203T193000
DTEND;TZID=America/New_York:20260203T233000
DTSTAMP:20260421T093957
CREATED:20260128T180945Z
LAST-MODIFIED:20260128T185256Z
UID:3656-1770147000-1770161400@www.piedmontdarts.org
SUMMARY:Tuesday League - Just the Tip vs Village Square Idiots
DESCRIPTION:C League Schedule
URL:https://www.piedmontdarts.org/event/tuesday-league-just-the-tip-vs-village-square-idiots-5/
LOCATION:The Alibi Bar and Lounge\, 28 Salem St\, Thomasville\, NC\, 27360\, United States
CATEGORIES:Tuesday Night League
END:VEVENT
BEGIN:VEVENT
DTSTART;TZID=America/New_York:20260203T193000
DTEND;TZID=America/New_York:20260203T233000
DTSTAMP:20260421T093957
CREATED:20260128T180945Z
LAST-MODIFIED:20260128T185256Z
UID:3657-1770147000-1770161400@www.piedmontdarts.org
SUMMARY:Tuesday League - Shanghai Society vs Off Target
DESCRIPTION:C League Schedule
URL:https://www.piedmontdarts.org/event/tuesday-league-shanghai-society-vs-off-target-2/
LOCATION:Breakers\, 435 Dolley Madison Rd #G\, Greensboro\, 27410\, United States
CATEGORIES:Tuesday Night League
END:VEVENT
BEGIN:VEVENT
DTSTART;TZID=America/New_York:20260203T193000
DTEND;TZID=America/New_York:20260203T233000
DTSTAMP:20260421T093957
CREATED:20260128T180945Z
LAST-MODIFIED:20260128T185256Z
UID:3658-1770147000-1770161400@www.piedmontdarts.org
SUMMARY:Tuesday League - Wire We Here vs Dart Side of the Moon
DESCRIPTION:C League Schedule
URL:https://www.piedmontdarts.org/event/tuesday-league-wire-we-here-vs-dart-side-of-the-moon-2/
LOCATION:Village Square Tap House\, 6000 Meadowbrook Mall Ct #\, Clemmons\, 27012\, United States
CATEGORIES:Tuesday Night League
END:VEVENT
END:VCALENDAR