BEGIN:VCALENDAR
VERSION:2.0
PRODID:-//Piedmont Dart Association - ECPv6.15.20//NONSGML v1.0//EN
CALSCALE:GREGORIAN
METHOD:PUBLISH
X-WR-CALNAME:Piedmont Dart Association
X-ORIGINAL-URL:https://www.piedmontdarts.org
X-WR-CALDESC:Events for Piedmont Dart Association
REFRESH-INTERVAL;VALUE=DURATION:PT1H
X-Robots-Tag:noindex
X-PUBLISHED-TTL:PT1H
BEGIN:VTIMEZONE
TZID:America/New_York
BEGIN:DAYLIGHT
TZOFFSETFROM:-0500
TZOFFSETTO:-0400
TZNAME:EDT
DTSTART:20250309T070000
END:DAYLIGHT
BEGIN:STANDARD
TZOFFSETFROM:-0400
TZOFFSETTO:-0500
TZNAME:EST
DTSTART:20251102T060000
END:STANDARD
BEGIN:DAYLIGHT
TZOFFSETFROM:-0500
TZOFFSETTO:-0400
TZNAME:EDT
DTSTART:20260308T070000
END:DAYLIGHT
BEGIN:STANDARD
TZOFFSETFROM:-0400
TZOFFSETTO:-0500
TZNAME:EST
DTSTART:20261101T060000
END:STANDARD
BEGIN:DAYLIGHT
TZOFFSETFROM:-0500
TZOFFSETTO:-0400
TZNAME:EDT
DTSTART:20270314T070000
END:DAYLIGHT
BEGIN:STANDARD
TZOFFSETFROM:-0400
TZOFFSETTO:-0500
TZNAME:EST
DTSTART:20271107T060000
END:STANDARD
END:VTIMEZONE
BEGIN:VEVENT
DTSTART;TZID=America/New_York:20260210T193000
DTEND;TZID=America/New_York:20260210T233000
DTSTAMP:20260421T095437
CREATED:20260128T171009Z
LAST-MODIFIED:20260128T184808Z
UID:3558-1770751800-1770766200@www.piedmontdarts.org
SUMMARY:Tuesday League - Next Door Trippin vs Off Constantly
DESCRIPTION:A League Schedule
URL:https://www.piedmontdarts.org/event/tuesday-league-next-door-trippin-vs-off-constantly-5/
LOCATION:Breakers\, 435 Dolley Madison Rd #G\, Greensboro\, 27410\, United States
CATEGORIES:Tuesday Night League
END:VEVENT
BEGIN:VEVENT
DTSTART;TZID=America/New_York:20260210T193000
DTEND;TZID=America/New_York:20260210T233000
DTSTAMP:20260421T095437
CREATED:20260128T171009Z
LAST-MODIFIED:20260128T184809Z
UID:3559-1770751800-1770766200@www.piedmontdarts.org
SUMMARY:Tuesday League - Rumple Steel Tips vs Horsemen of the Dartpocalypse
DESCRIPTION:A League Schedule
URL:https://www.piedmontdarts.org/event/tuesday-league-rumple-steel-tips-vs-horsemen-of-the-dartpocalypse-3/
LOCATION:Tavern (Century Park)\, 214 Century Blvd\, Kernersville\, NC\, 27284\, United States
CATEGORIES:Tuesday Night League
END:VEVENT
BEGIN:VEVENT
DTSTART;TZID=America/New_York:20260210T193000
DTEND;TZID=America/New_York:20260210T233000
DTSTAMP:20260421T095437
CREATED:20260128T171023Z
LAST-MODIFIED:20260128T184815Z
UID:3560-1770751800-1770766200@www.piedmontdarts.org
SUMMARY:Tuesday League - Wirey Bastards vs Treble Makers
DESCRIPTION:A League Schedule
URL:https://www.piedmontdarts.org/event/tuesday-league-wirey-bastards-vs-treble-makers-3/
LOCATION:Breakers\, 435 Dolley Madison Rd #G\, Greensboro\, 27410\, United States
CATEGORIES:Tuesday Night League
END:VEVENT
BEGIN:VEVENT
DTSTART;TZID=America/New_York:20260210T193000
DTEND;TZID=America/New_York:20260210T233000
DTSTAMP:20260421T095437
CREATED:20260128T180804Z
LAST-MODIFIED:20260128T185041Z
UID:3603-1770751800-1770766200@www.piedmontdarts.org
SUMMARY:Tuesday League - Full of Bull vs Night Flights
DESCRIPTION:B League Schedule
URL:https://www.piedmontdarts.org/event/tuesday-league-full-of-bull-vs-night-flights-3/
LOCATION:Old Nick’s Pub – Lewisville\, 191 Lowes Foods Dr.\, Lewisville\, 27023\, United States
CATEGORIES:Tuesday Night League
END:VEVENT
BEGIN:VEVENT
DTSTART;TZID=America/New_York:20260210T193000
DTEND;TZID=America/New_York:20260210T233000
DTSTAMP:20260421T095437
CREATED:20260128T180804Z
LAST-MODIFIED:20260128T185041Z
UID:3604-1770751800-1770766200@www.piedmontdarts.org
SUMMARY:Tuesday League - Old Darty Bastards vs PointDexters
DESCRIPTION:B League Schedule
URL:https://www.piedmontdarts.org/event/tuesday-league-old-darty-bastards-vs-pointdexters-3/
LOCATION:Breakers\, 435 Dolley Madison Rd #G\, Greensboro\, 27410\, United States
CATEGORIES:Tuesday Night League
END:VEVENT
BEGIN:VEVENT
DTSTART;TZID=America/New_York:20260210T193000
DTEND;TZID=America/New_York:20260210T233000
DTSTAMP:20260421T095437
CREATED:20260128T180814Z
LAST-MODIFIED:20260128T185055Z
UID:3605-1770751800-1770766200@www.piedmontdarts.org
SUMMARY:Tuesday League - Taking Flight vs BullsHit
DESCRIPTION:B League Schedule
URL:https://www.piedmontdarts.org/event/tuesday-league-taking-flight-vs-bullshit-3/
LOCATION:Greensboro Elks Lodge\, 2201 W. Cornwallis Drive\, Greensboro\, NC\, 27408\, United States
CATEGORIES:Tuesday Night League
END:VEVENT
BEGIN:VEVENT
DTSTART;TZID=America/New_York:20260210T193000
DTEND;TZID=America/New_York:20260210T233000
DTSTAMP:20260421T095437
CREATED:20260128T180945Z
LAST-MODIFIED:20260128T185256Z
UID:3659-1770751800-1770766200@www.piedmontdarts.org
SUMMARY:Tuesday League - Dart Side of the Moon vs Freedom Fighters
DESCRIPTION:C League Schedule
URL:https://www.piedmontdarts.org/event/tuesday-league-dart-side-of-the-moon-vs-freedom-fighters-2/
LOCATION:The Alibi Bar and Lounge\, 28 Salem St\, Thomasville\, NC\, 27360\, United States
CATEGORIES:Tuesday Night League
END:VEVENT
BEGIN:VEVENT
DTSTART;TZID=America/New_York:20260210T193000
DTEND;TZID=America/New_York:20260210T233000
DTSTAMP:20260421T095437
CREATED:20260128T181048Z
LAST-MODIFIED:20260128T185310Z
UID:3660-1770751800-1770766200@www.piedmontdarts.org
SUMMARY:Tuesday League - Little Debbie and the Snacks vs Wire We Here
DESCRIPTION:C League Schedule
URL:https://www.piedmontdarts.org/event/tuesday-league-little-debbie-and-the-snacks-vs-wire-we-here-2/
LOCATION:Tavern (Century Park)\, 214 Century Blvd\, Kernersville\, NC\, 27284\, United States
CATEGORIES:Tuesday Night League
END:VEVENT
BEGIN:VEVENT
DTSTART;TZID=America/New_York:20260210T193000
DTEND;TZID=America/New_York:20260210T233000
DTSTAMP:20260421T095437
CREATED:20260128T181048Z
LAST-MODIFIED:20260128T185311Z
UID:3661-1770751800-1770766200@www.piedmontdarts.org
SUMMARY:Tuesday League - Off Target vs Just the Tip
DESCRIPTION:C League Schedule
URL:https://www.piedmontdarts.org/event/tuesday-league-off-target-vs-just-the-tip-2/
CATEGORIES:Tuesday Night League
END:VEVENT
BEGIN:VEVENT
DTSTART;TZID=America/New_York:20260210T193000
DTEND;TZID=America/New_York:20260210T233000
DTSTAMP:20260421T095437
CREATED:20260128T181048Z
LAST-MODIFIED:20260128T185311Z
UID:3662-1770751800-1770766200@www.piedmontdarts.org
SUMMARY:Tuesday League - Village Square Idiots vs Shanghai Society
DESCRIPTION:C League Schedule
URL:https://www.piedmontdarts.org/event/tuesday-league-village-square-idiots-vs-shanghai-society-2/
LOCATION:Village Square Tap House\, 6000 Meadowbrook Mall Ct #\, Clemmons\, 27012\, United States
CATEGORIES:Tuesday Night League
END:VEVENT
END:VCALENDAR