BEGIN:VCALENDAR
VERSION:2.0
PRODID:-//Piedmont Dart Association - ECPv6.15.20//NONSGML v1.0//EN
CALSCALE:GREGORIAN
METHOD:PUBLISH
X-ORIGINAL-URL:https://www.piedmontdarts.org
X-WR-CALDESC:Events for Piedmont Dart Association
REFRESH-INTERVAL;VALUE=DURATION:PT1H
X-Robots-Tag:noindex
X-PUBLISHED-TTL:PT1H
BEGIN:VTIMEZONE
TZID:UTC
BEGIN:STANDARD
TZOFFSETFROM:+0000
TZOFFSETTO:+0000
TZNAME:UTC
DTSTART:20250101T000000
END:STANDARD
END:VTIMEZONE
BEGIN:VEVENT
DTSTART;TZID=UTC:20260213T200000
DTEND;TZID=UTC:20260215T170000
DTSTAMP:20260421T093905
CREATED:20260106T202214Z
LAST-MODIFIED:20260106T202214Z
UID:3260-1771012800-1771174800@www.piedmontdarts.org
SUMMARY:Sweetheart Shootout 2026
DESCRIPTION:View FullscreenSkip to PDF content
URL:https://www.piedmontdarts.org/event/sweetheart-shootout-2026/
LOCATION:Breakers\, 435 Dolley Madison Rd #G\, Greensboro\, 27410\, United States
END:VEVENT
END:VCALENDAR