BEGIN:VCALENDAR
VERSION:2.0
PRODID:-//Piedmont Dart Association - ECPv6.15.20//NONSGML v1.0//EN
CALSCALE:GREGORIAN
METHOD:PUBLISH
X-ORIGINAL-URL:https://www.piedmontdarts.org
X-WR-CALDESC:Events for Piedmont Dart Association
REFRESH-INTERVAL;VALUE=DURATION:PT1H
X-Robots-Tag:noindex
X-PUBLISHED-TTL:PT1H
BEGIN:VTIMEZONE
TZID:America/New_York
BEGIN:DAYLIGHT
TZOFFSETFROM:-0500
TZOFFSETTO:-0400
TZNAME:EDT
DTSTART:20250309T070000
END:DAYLIGHT
BEGIN:STANDARD
TZOFFSETFROM:-0400
TZOFFSETTO:-0500
TZNAME:EST
DTSTART:20251102T060000
END:STANDARD
BEGIN:DAYLIGHT
TZOFFSETFROM:-0500
TZOFFSETTO:-0400
TZNAME:EDT
DTSTART:20260308T070000
END:DAYLIGHT
BEGIN:STANDARD
TZOFFSETFROM:-0400
TZOFFSETTO:-0500
TZNAME:EST
DTSTART:20261101T060000
END:STANDARD
BEGIN:DAYLIGHT
TZOFFSETFROM:-0500
TZOFFSETTO:-0400
TZNAME:EDT
DTSTART:20270314T070000
END:DAYLIGHT
BEGIN:STANDARD
TZOFFSETFROM:-0400
TZOFFSETTO:-0500
TZNAME:EST
DTSTART:20271107T060000
END:STANDARD
END:VTIMEZONE
BEGIN:VEVENT
DTSTART;TZID=America/New_York:20260217T193000
DTEND;TZID=America/New_York:20260217T233000
DTSTAMP:20260423T105715
CREATED:20260128T171023Z
LAST-MODIFIED:20260128T184815Z
UID:3561-1771356600-1771371000@www.piedmontdarts.org
SUMMARY:Tuesday League - Rumple Steel Tips vs Off Constantly
DESCRIPTION:A League Schedule
URL:https://www.piedmontdarts.org/event/tuesday-league-rumple-steel-tips-vs-off-constantly-3/
LOCATION:Tavern (Century Park)\, 214 Century Blvd\, Kernersville\, NC\, 27284\, United States
CATEGORIES:Tuesday Night League
END:VEVENT
BEGIN:VEVENT
DTSTART;TZID=America/New_York:20260217T193000
DTEND;TZID=America/New_York:20260217T233000
DTSTAMP:20260423T105715
CREATED:20260128T171023Z
LAST-MODIFIED:20260128T184815Z
UID:3562-1771356600-1771371000@www.piedmontdarts.org
SUMMARY:Tuesday League - Treble Makers vs Horsemen of the Dartpocalypse
DESCRIPTION:A League Schedule
URL:https://www.piedmontdarts.org/event/tuesday-league-treble-makers-vs-horsemen-of-the-dartpocalypse-3/
LOCATION:Breakers\, 435 Dolley Madison Rd #G\, Greensboro\, 27410\, United States
CATEGORIES:Tuesday Night League
END:VEVENT
BEGIN:VEVENT
DTSTART;TZID=America/New_York:20260217T193000
DTEND;TZID=America/New_York:20260217T233000
DTSTAMP:20260423T105715
CREATED:20260128T171024Z
LAST-MODIFIED:20260128T184815Z
UID:3563-1771356600-1771371000@www.piedmontdarts.org
SUMMARY:Tuesday League - Wirey Bastards vs Next Door Trippin
DESCRIPTION:A League Schedule
URL:https://www.piedmontdarts.org/event/tuesday-league-wirey-bastards-vs-next-door-trippin-5/
LOCATION:Breakers\, 435 Dolley Madison Rd #G\, Greensboro\, 27410\, United States
CATEGORIES:Tuesday Night League
END:VEVENT
BEGIN:VEVENT
DTSTART;TZID=America/New_York:20260217T193000
DTEND;TZID=America/New_York:20260217T233000
DTSTAMP:20260423T105715
CREATED:20260128T180814Z
LAST-MODIFIED:20260128T185056Z
UID:3606-1771356600-1771371000@www.piedmontdarts.org
SUMMARY:Tuesday League - BullsHit vs Night Flights
DESCRIPTION:B League Schedule
URL:https://www.piedmontdarts.org/event/tuesday-league-bullshit-vs-night-flights-3/
LOCATION:Breakers\, 435 Dolley Madison Rd #G\, Greensboro\, 27410\, United States
CATEGORIES:Tuesday Night League
END:VEVENT
BEGIN:VEVENT
DTSTART;TZID=America/New_York:20260217T193000
DTEND;TZID=America/New_York:20260217T233000
DTSTAMP:20260423T105715
CREATED:20260128T180814Z
LAST-MODIFIED:20260128T185056Z
UID:3607-1771356600-1771371000@www.piedmontdarts.org
SUMMARY:Tuesday League - Full of Bull vs PointDexters
DESCRIPTION:B League Schedule
URL:https://www.piedmontdarts.org/event/tuesday-league-full-of-bull-vs-pointdexters-3/
LOCATION:Old Nick’s Pub – Lewisville\, 191 Lowes Foods Dr.\, Lewisville\, 27023\, United States
CATEGORIES:Tuesday Night League
END:VEVENT
BEGIN:VEVENT
DTSTART;TZID=America/New_York:20260217T193000
DTEND;TZID=America/New_York:20260217T233000
DTSTAMP:20260423T105715
CREATED:20260128T180815Z
LAST-MODIFIED:20260128T185056Z
UID:3608-1771356600-1771371000@www.piedmontdarts.org
SUMMARY:Tuesday League - Taking Flight vs Old Darty Bastards
DESCRIPTION:B League Schedule
URL:https://www.piedmontdarts.org/event/tuesday-league-taking-flight-vs-old-darty-bastards-3/
LOCATION:Greensboro Elks Lodge\, 2201 W. Cornwallis Drive\, Greensboro\, NC\, 27408\, United States
CATEGORIES:Tuesday Night League
END:VEVENT
BEGIN:VEVENT
DTSTART;TZID=America/New_York:20260217T193000
DTEND;TZID=America/New_York:20260217T233000
DTSTAMP:20260423T105715
CREATED:20260128T181049Z
LAST-MODIFIED:20260128T185311Z
UID:3663-1771356600-1771371000@www.piedmontdarts.org
SUMMARY:Tuesday League - Dart Side of the Moon vs Off Target
DESCRIPTION:C League Schedule
URL:https://www.piedmontdarts.org/event/tuesday-league-dart-side-of-the-moon-vs-off-target-2/
LOCATION:The Alibi Bar and Lounge\, 28 Salem St\, Thomasville\, NC\, 27360\, United States
CATEGORIES:Tuesday Night League
END:VEVENT
BEGIN:VEVENT
DTSTART;TZID=America/New_York:20260217T193000
DTEND;TZID=America/New_York:20260217T233000
DTSTAMP:20260423T105715
CREATED:20260128T181049Z
LAST-MODIFIED:20260128T185311Z
UID:3664-1771356600-1771371000@www.piedmontdarts.org
SUMMARY:Tuesday League - Little Debbie and the Snacks vs Village Square Idiots
DESCRIPTION:C League Schedule
URL:https://www.piedmontdarts.org/event/tuesday-league-little-debbie-and-the-snacks-vs-village-square-idiots-4/
LOCATION:Tavern (Century Park)\, 214 Century Blvd\, Kernersville\, NC\, 27284\, United States
CATEGORIES:Tuesday Night League
END:VEVENT
BEGIN:VEVENT
DTSTART;TZID=America/New_York:20260217T193000
DTEND;TZID=America/New_York:20260217T233000
DTSTAMP:20260423T105715
CREATED:20260128T181058Z
LAST-MODIFIED:20260128T185326Z
UID:3665-1771356600-1771371000@www.piedmontdarts.org
SUMMARY:Tuesday League - Shanghai Society vs Freedom Fighters
DESCRIPTION:C League Schedule
URL:https://www.piedmontdarts.org/event/tuesday-league-shanghai-society-vs-freedom-fighters-2/
LOCATION:Breakers\, 435 Dolley Madison Rd #G\, Greensboro\, 27410\, United States
CATEGORIES:Tuesday Night League
END:VEVENT
BEGIN:VEVENT
DTSTART;TZID=America/New_York:20260217T193000
DTEND;TZID=America/New_York:20260217T233000
DTSTAMP:20260423T105715
CREATED:20260128T181059Z
LAST-MODIFIED:20260128T185326Z
UID:3666-1771356600-1771371000@www.piedmontdarts.org
SUMMARY:Tuesday League - Wire We Here vs Just the Tip
DESCRIPTION:C League Schedule
URL:https://www.piedmontdarts.org/event/tuesday-league-wire-we-here-vs-just-the-tip-2/
LOCATION:Village Square Tap House\, 6000 Meadowbrook Mall Ct #\, Clemmons\, 27012\, United States
CATEGORIES:Tuesday Night League
END:VEVENT
END:VCALENDAR