BEGIN:VCALENDAR
VERSION:2.0
PRODID:-//Piedmont Dart Association - ECPv6.15.20//NONSGML v1.0//EN
CALSCALE:GREGORIAN
METHOD:PUBLISH
X-ORIGINAL-URL:https://www.piedmontdarts.org
X-WR-CALDESC:Events for Piedmont Dart Association
REFRESH-INTERVAL;VALUE=DURATION:PT1H
X-Robots-Tag:noindex
X-PUBLISHED-TTL:PT1H
BEGIN:VTIMEZONE
TZID:America/New_York
BEGIN:DAYLIGHT
TZOFFSETFROM:-0500
TZOFFSETTO:-0400
TZNAME:EDT
DTSTART:20250309T070000
END:DAYLIGHT
BEGIN:STANDARD
TZOFFSETFROM:-0400
TZOFFSETTO:-0500
TZNAME:EST
DTSTART:20251102T060000
END:STANDARD
BEGIN:DAYLIGHT
TZOFFSETFROM:-0500
TZOFFSETTO:-0400
TZNAME:EDT
DTSTART:20260308T070000
END:DAYLIGHT
BEGIN:STANDARD
TZOFFSETFROM:-0400
TZOFFSETTO:-0500
TZNAME:EST
DTSTART:20261101T060000
END:STANDARD
BEGIN:DAYLIGHT
TZOFFSETFROM:-0500
TZOFFSETTO:-0400
TZNAME:EDT
DTSTART:20270314T070000
END:DAYLIGHT
BEGIN:STANDARD
TZOFFSETFROM:-0400
TZOFFSETTO:-0500
TZNAME:EST
DTSTART:20271107T060000
END:STANDARD
END:VTIMEZONE
BEGIN:VEVENT
DTSTART;TZID=America/New_York:20260310T193000
DTEND;TZID=America/New_York:20260310T233000
DTSTAMP:20260421T093932
CREATED:20260128T180706Z
LAST-MODIFIED:20260128T184911Z
UID:3570-1773171000-1773185400@www.piedmontdarts.org
SUMMARY:Tuesday League - Next Door Trippin vs Horsemen of the Dartpocalypse
DESCRIPTION:A League Schedule
URL:https://www.piedmontdarts.org/event/tuesday-league-next-door-trippin-vs-horsemen-of-the-dartpocalypse-2/
LOCATION:Breakers\, 435 Dolley Madison Rd #G\, Greensboro\, 27410\, United States
CATEGORIES:Tuesday Night League
END:VEVENT
BEGIN:VEVENT
DTSTART;TZID=America/New_York:20260310T193000
DTEND;TZID=America/New_York:20260310T233000
DTSTAMP:20260421T093932
CREATED:20260128T180707Z
LAST-MODIFIED:20260128T184911Z
UID:3571-1773171000-1773185400@www.piedmontdarts.org
SUMMARY:Tuesday League - Rumple Steel Tips vs Treble Makers
DESCRIPTION:A League Schedule
URL:https://www.piedmontdarts.org/event/tuesday-league-rumple-steel-tips-vs-treble-makers-2/
LOCATION:Tavern (Century Park)\, 214 Century Blvd\, Kernersville\, NC\, 27284\, United States
CATEGORIES:Tuesday Night League
END:VEVENT
BEGIN:VEVENT
DTSTART;TZID=America/New_York:20260310T193000
DTEND;TZID=America/New_York:20260310T233000
DTSTAMP:20260421T093932
CREATED:20260128T180707Z
LAST-MODIFIED:20260128T184911Z
UID:3572-1773171000-1773185400@www.piedmontdarts.org
SUMMARY:Tuesday League - Wirey Bastards vs Off Constantly
DESCRIPTION:A League Schedule
URL:https://www.piedmontdarts.org/event/tuesday-league-wirey-bastards-vs-off-constantly-4/
LOCATION:Breakers\, 435 Dolley Madison Rd #G\, Greensboro\, 27410\, United States
CATEGORIES:Tuesday Night League
END:VEVENT
BEGIN:VEVENT
DTSTART;TZID=America/New_York:20260310T193000
DTEND;TZID=America/New_York:20260310T233000
DTSTAMP:20260421T093932
CREATED:20260128T180837Z
LAST-MODIFIED:20260128T185126Z
UID:3615-1773171000-1773185400@www.piedmontdarts.org
SUMMARY:Tuesday League - Full of Bull vs BullsHit
DESCRIPTION:B League Schedule
URL:https://www.piedmontdarts.org/event/tuesday-league-full-of-bull-vs-bullshit-2/
LOCATION:Old Nick’s Pub – Lewisville\, 191 Lowes Foods Dr.\, Lewisville\, 27023\, United States
CATEGORIES:Tuesday Night League
END:VEVENT
BEGIN:VEVENT
DTSTART;TZID=America/New_York:20260310T193000
DTEND;TZID=America/New_York:20260310T233000
DTSTAMP:20260421T093932
CREATED:20260128T180837Z
LAST-MODIFIED:20260128T185126Z
UID:3616-1773171000-1773185400@www.piedmontdarts.org
SUMMARY:Tuesday League - Old Darty Bastards vs Night Flights
DESCRIPTION:B League Schedule
URL:https://www.piedmontdarts.org/event/tuesday-league-old-darty-bastards-vs-night-flights-2/
LOCATION:Breakers\, 435 Dolley Madison Rd #G\, Greensboro\, 27410\, United States
CATEGORIES:Tuesday Night League
END:VEVENT
BEGIN:VEVENT
DTSTART;TZID=America/New_York:20260310T193000
DTEND;TZID=America/New_York:20260310T233000
DTSTAMP:20260421T093932
CREATED:20260128T180838Z
LAST-MODIFIED:20260128T185126Z
UID:3617-1773171000-1773185400@www.piedmontdarts.org
SUMMARY:Tuesday League - Taking Flight vs PointDexters
DESCRIPTION:B League Schedule
URL:https://www.piedmontdarts.org/event/tuesday-league-taking-flight-vs-pointdexters-3/
LOCATION:Greensboro Elks Lodge\, 2201 W. Cornwallis Drive\, Greensboro\, NC\, 27408\, United States
CATEGORIES:Tuesday Night League
END:VEVENT
BEGIN:VEVENT
DTSTART;TZID=America/New_York:20260310T193000
DTEND;TZID=America/New_York:20260310T233000
DTSTAMP:20260421T093932
CREATED:20260128T181123Z
LAST-MODIFIED:20260128T185356Z
UID:3675-1773171000-1773185400@www.piedmontdarts.org
SUMMARY:Tuesday League - Dart Side of the Moon vs Shanghai Society
DESCRIPTION:C League Schedule
URL:https://www.piedmontdarts.org/event/tuesday-league-dart-side-of-the-moon-vs-shanghai-society-2/
LOCATION:The Alibi Bar and Lounge\, 28 Salem St\, Thomasville\, NC\, 27360\, United States
CATEGORIES:Tuesday Night League
END:VEVENT
BEGIN:VEVENT
DTSTART;TZID=America/New_York:20260310T193000
DTEND;TZID=America/New_York:20260310T233000
DTSTAMP:20260421T093932
CREATED:20260128T181123Z
LAST-MODIFIED:20260128T185356Z
UID:3676-1773171000-1773185400@www.piedmontdarts.org
SUMMARY:Tuesday League - Little Debbie and the Snacks vs Just the Tip
DESCRIPTION:C League Schedule
URL:https://www.piedmontdarts.org/event/tuesday-league-little-debbie-and-the-snacks-vs-just-the-tip-3/
LOCATION:Tavern (Century Park)\, 214 Century Blvd\, Kernersville\, NC\, 27284\, United States
CATEGORIES:Tuesday Night League
END:VEVENT
BEGIN:VEVENT
DTSTART;TZID=America/New_York:20260310T193000
DTEND;TZID=America/New_York:20260310T233000
DTSTAMP:20260421T093932
CREATED:20260128T181123Z
LAST-MODIFIED:20260128T185356Z
UID:3677-1773171000-1773185400@www.piedmontdarts.org
SUMMARY:Tuesday League - Off Target vs Freedom Fighters
DESCRIPTION:C League Schedule
URL:https://www.piedmontdarts.org/event/tuesday-league-off-target-vs-freedom-fighters-2/
CATEGORIES:Tuesday Night League
END:VEVENT
BEGIN:VEVENT
DTSTART;TZID=America/New_York:20260310T193000
DTEND;TZID=America/New_York:20260310T233000
DTSTAMP:20260421T093932
CREATED:20260128T181123Z
LAST-MODIFIED:20260128T185356Z
UID:3678-1773171000-1773185400@www.piedmontdarts.org
SUMMARY:Tuesday League - Village Square Idiots vs Wire We Here
DESCRIPTION:C League Schedule
URL:https://www.piedmontdarts.org/event/tuesday-league-village-square-idiots-vs-wire-we-here-2/
LOCATION:Village Square Tap House\, 6000 Meadowbrook Mall Ct #\, Clemmons\, 27012\, United States
CATEGORIES:Tuesday Night League
END:VEVENT
END:VCALENDAR