BEGIN:VCALENDAR
VERSION:2.0
PRODID:-//Piedmont Dart Association - ECPv6.15.20//NONSGML v1.0//EN
CALSCALE:GREGORIAN
METHOD:PUBLISH
X-WR-CALNAME:Piedmont Dart Association
X-ORIGINAL-URL:https://www.piedmontdarts.org
X-WR-CALDESC:Events for Piedmont Dart Association
REFRESH-INTERVAL;VALUE=DURATION:PT1H
X-Robots-Tag:noindex
X-PUBLISHED-TTL:PT1H
BEGIN:VTIMEZONE
TZID:America/New_York
BEGIN:DAYLIGHT
TZOFFSETFROM:-0500
TZOFFSETTO:-0400
TZNAME:EDT
DTSTART:20250309T070000
END:DAYLIGHT
BEGIN:STANDARD
TZOFFSETFROM:-0400
TZOFFSETTO:-0500
TZNAME:EST
DTSTART:20251102T060000
END:STANDARD
BEGIN:DAYLIGHT
TZOFFSETFROM:-0500
TZOFFSETTO:-0400
TZNAME:EDT
DTSTART:20260308T070000
END:DAYLIGHT
BEGIN:STANDARD
TZOFFSETFROM:-0400
TZOFFSETTO:-0500
TZNAME:EST
DTSTART:20261101T060000
END:STANDARD
BEGIN:DAYLIGHT
TZOFFSETFROM:-0500
TZOFFSETTO:-0400
TZNAME:EDT
DTSTART:20270314T070000
END:DAYLIGHT
BEGIN:STANDARD
TZOFFSETFROM:-0400
TZOFFSETTO:-0500
TZNAME:EST
DTSTART:20271107T060000
END:STANDARD
END:VTIMEZONE
BEGIN:VEVENT
DTSTART;TZID=America/New_York:20260331T193000
DTEND;TZID=America/New_York:20260331T233000
DTSTAMP:20260423T093702
CREATED:20260128T180713Z
LAST-MODIFIED:20260128T184926Z
UID:3579-1774985400-1774999800@www.piedmontdarts.org
SUMMARY:Tuesday League - Rumple Steel Tips vs Next Door Trippin
DESCRIPTION:A League Schedule
URL:https://www.piedmontdarts.org/event/tuesday-league-rumple-steel-tips-vs-next-door-trippin-2/
LOCATION:Tavern (Century Park)\, 214 Century Blvd\, Kernersville\, NC\, 27284\, United States
CATEGORIES:Tuesday Night League
END:VEVENT
BEGIN:VEVENT
DTSTART;TZID=America/New_York:20260331T193000
DTEND;TZID=America/New_York:20260331T233000
DTSTAMP:20260423T093702
CREATED:20260128T180723Z
LAST-MODIFIED:20260128T184940Z
UID:3580-1774985400-1774999800@www.piedmontdarts.org
SUMMARY:Tuesday League - Treble Makers vs Off Constantly
DESCRIPTION:A League Schedule
URL:https://www.piedmontdarts.org/event/tuesday-league-treble-makers-vs-off-constantly-2/
LOCATION:Breakers\, 435 Dolley Madison Rd #G\, Greensboro\, 27410\, United States
CATEGORIES:Tuesday Night League
END:VEVENT
BEGIN:VEVENT
DTSTART;TZID=America/New_York:20260331T193000
DTEND;TZID=America/New_York:20260331T233000
DTSTAMP:20260423T093702
CREATED:20260128T180723Z
LAST-MODIFIED:20260128T184941Z
UID:3581-1774985400-1774999800@www.piedmontdarts.org
SUMMARY:Tuesday League - Wirey Bastards vs Horsemen of the Dartpocalypse
DESCRIPTION:A League Schedule
URL:https://www.piedmontdarts.org/event/tuesday-league-wirey-bastards-vs-horsemen-of-the-dartpocalypse-2/
LOCATION:Breakers\, 435 Dolley Madison Rd #G\, Greensboro\, 27410\, United States
CATEGORIES:Tuesday Night League
END:VEVENT
BEGIN:VEVENT
DTSTART;TZID=America/New_York:20260331T193000
DTEND;TZID=America/New_York:20260331T233000
DTSTAMP:20260423T093702
CREATED:20260128T180851Z
LAST-MODIFIED:20260128T185141Z
UID:3624-1774985400-1774999800@www.piedmontdarts.org
SUMMARY:Tuesday League - BullsHit vs  PointDexters
DESCRIPTION:B League Schedule
URL:https://www.piedmontdarts.org/event/tuesday-league-bullshit-vs-pointdexters-2/
LOCATION:Breakers\, 435 Dolley Madison Rd #G\, Greensboro\, 27410\, United States
CATEGORIES:Tuesday Night League
END:VEVENT
BEGIN:VEVENT
DTSTART;TZID=America/New_York:20260331T193000
DTEND;TZID=America/New_York:20260331T233000
DTSTAMP:20260423T093702
CREATED:20260128T180901Z
LAST-MODIFIED:20260128T185156Z
UID:3626-1774985400-1774999800@www.piedmontdarts.org
SUMMARY:Tuesday League - Taking Flight vs Night Flights
DESCRIPTION:B League Schedule
URL:https://www.piedmontdarts.org/event/tuesday-league-taking-flight-vs-night-flights-2/
LOCATION:Greensboro Elks Lodge\, 2201 W. Cornwallis Drive\, Greensboro\, NC\, 27408\, United States
CATEGORIES:Tuesday Night League
END:VEVENT
BEGIN:VEVENT
DTSTART;TZID=America/New_York:20260331T193000
DTEND;TZID=America/New_York:20260331T233000
DTSTAMP:20260423T093702
CREATED:20260128T180901Z
LAST-MODIFIED:20260128T185156Z
UID:3625-1774985400-1774999800@www.piedmontdarts.org
SUMMARY:Tuesday League - Full of Bull vs Old Darty Bastards
DESCRIPTION:B League Schedule
URL:https://www.piedmontdarts.org/event/tuesday-league-full-of-bull-vs-old-darty-bastards-2/
LOCATION:Old Nick’s Pub – Lewisville\, 191 Lowes Foods Dr.\, Lewisville\, 27023\, United States
CATEGORIES:Tuesday Night League
END:VEVENT
BEGIN:VEVENT
DTSTART;TZID=America/New_York:20260331T193000
DTEND;TZID=America/New_York:20260331T233000
DTSTAMP:20260423T093702
CREATED:20260128T181136Z
LAST-MODIFIED:20260128T185426Z
UID:3687-1774985400-1774999800@www.piedmontdarts.org
SUMMARY:Tuesday League - Freedom Fighters vs Dart Side of the Moon
DESCRIPTION:C League Schedule
URL:https://www.piedmontdarts.org/event/tuesday-league-freedom-fighters-vs-dart-side-of-the-moon-2/
LOCATION:Greensboro Elks Lodge\, 2201 W. Cornwallis Drive\, Greensboro\, NC\, 27408\, United States
CATEGORIES:Tuesday Night League
END:VEVENT
BEGIN:VEVENT
DTSTART;TZID=America/New_York:20260331T193000
DTEND;TZID=America/New_York:20260331T233000
DTSTAMP:20260423T093702
CREATED:20260128T181137Z
LAST-MODIFIED:20260128T185426Z
UID:3688-1774985400-1774999800@www.piedmontdarts.org
SUMMARY:Tuesday League - Just the Tip vs Off Target
DESCRIPTION:C League Schedule
URL:https://www.piedmontdarts.org/event/tuesday-league-just-the-tip-vs-off-target-2/
LOCATION:The Alibi Bar and Lounge\, 28 Salem St\, Thomasville\, NC\, 27360\, United States
CATEGORIES:Tuesday Night League
END:VEVENT
BEGIN:VEVENT
DTSTART;TZID=America/New_York:20260331T193000
DTEND;TZID=America/New_York:20260331T233000
DTSTAMP:20260423T093702
CREATED:20260128T181137Z
LAST-MODIFIED:20260128T185426Z
UID:3689-1774985400-1774999800@www.piedmontdarts.org
SUMMARY:Tuesday League - Shanghai Society vs Village Square Idiots
DESCRIPTION:C League Schedule
URL:https://www.piedmontdarts.org/event/tuesday-league-shanghai-society-vs-village-square-idiots-2/
LOCATION:Breakers\, 435 Dolley Madison Rd #G\, Greensboro\, 27410\, United States
CATEGORIES:Tuesday Night League
END:VEVENT
BEGIN:VEVENT
DTSTART;TZID=America/New_York:20260331T193000
DTEND;TZID=America/New_York:20260331T233000
DTSTAMP:20260423T093702
CREATED:20260128T181146Z
LAST-MODIFIED:20260128T185441Z
UID:3690-1774985400-1774999800@www.piedmontdarts.org
SUMMARY:Tuesday League - Wire We Here vs Little Debbie and the Snacks
DESCRIPTION:C League Schedule
URL:https://www.piedmontdarts.org/event/tuesday-league-wire-we-here-vs-little-debbie-and-the-snacks-2/
LOCATION:Village Square Tap House\, 6000 Meadowbrook Mall Ct #\, Clemmons\, 27012\, United States
CATEGORIES:Tuesday Night League
END:VEVENT
END:VCALENDAR