BEGIN:VCALENDAR
VERSION:2.0
PRODID:-//Piedmont Dart Association - ECPv6.15.20//NONSGML v1.0//EN
CALSCALE:GREGORIAN
METHOD:PUBLISH
X-WR-CALNAME:Piedmont Dart Association
X-ORIGINAL-URL:https://www.piedmontdarts.org
X-WR-CALDESC:Events for Piedmont Dart Association
REFRESH-INTERVAL;VALUE=DURATION:PT1H
X-Robots-Tag:noindex
X-PUBLISHED-TTL:PT1H
BEGIN:VTIMEZONE
TZID:America/New_York
BEGIN:DAYLIGHT
TZOFFSETFROM:-0500
TZOFFSETTO:-0400
TZNAME:EDT
DTSTART:20250309T070000
END:DAYLIGHT
BEGIN:STANDARD
TZOFFSETFROM:-0400
TZOFFSETTO:-0500
TZNAME:EST
DTSTART:20251102T060000
END:STANDARD
BEGIN:DAYLIGHT
TZOFFSETFROM:-0500
TZOFFSETTO:-0400
TZNAME:EDT
DTSTART:20260308T070000
END:DAYLIGHT
BEGIN:STANDARD
TZOFFSETFROM:-0400
TZOFFSETTO:-0500
TZNAME:EST
DTSTART:20261101T060000
END:STANDARD
BEGIN:DAYLIGHT
TZOFFSETFROM:-0500
TZOFFSETTO:-0400
TZNAME:EDT
DTSTART:20270314T070000
END:DAYLIGHT
BEGIN:STANDARD
TZOFFSETFROM:-0400
TZOFFSETTO:-0500
TZNAME:EST
DTSTART:20271107T060000
END:STANDARD
END:VTIMEZONE
BEGIN:VEVENT
DTSTART;TZID=America/New_York:20260414T193000
DTEND;TZID=America/New_York:20260414T233000
DTSTAMP:20260423T094654
CREATED:20260128T180730Z
LAST-MODIFIED:20260128T184956Z
UID:3585-1776195000-1776209400@www.piedmontdarts.org
SUMMARY:Tuesday League - Horsemen of the Dartpocalypse vs Next Door Trippin
DESCRIPTION:A League Schedule
URL:https://www.piedmontdarts.org/event/tuesday-league-horsemen-of-the-dartpocalypse-vs-next-door-trippin-4/
CATEGORIES:Tuesday Night League
END:VEVENT
BEGIN:VEVENT
DTSTART;TZID=America/New_York:20260414T193000
DTEND;TZID=America/New_York:20260414T233000
DTSTAMP:20260423T094654
CREATED:20260128T180731Z
LAST-MODIFIED:20260128T184956Z
UID:3586-1776195000-1776209400@www.piedmontdarts.org
SUMMARY:Tuesday League - Off Constantly vs Wirey Bastards
DESCRIPTION:A League Schedule
URL:https://www.piedmontdarts.org/event/tuesday-league-off-constantly-vs-wirey-bastards-5/
LOCATION:Old Nick’s Pub Arcadia\, 206 Millers Creek Dr. Ste A\, Winston Salem\, NC\, 27127\, United States
CATEGORIES:Tuesday Night League
END:VEVENT
BEGIN:VEVENT
DTSTART;TZID=America/New_York:20260414T193000
DTEND;TZID=America/New_York:20260414T233000
DTSTAMP:20260423T094654
CREATED:20260128T180731Z
LAST-MODIFIED:20260128T184956Z
UID:3587-1776195000-1776209400@www.piedmontdarts.org
SUMMARY:Tuesday League - Treble Makers vs Rumple Steel Tips
DESCRIPTION:A League Schedule
URL:https://www.piedmontdarts.org/event/tuesday-league-treble-makers-vs-rumple-steel-tips-4/
LOCATION:Breakers\, 435 Dolley Madison Rd #G\, Greensboro\, 27410\, United States
CATEGORIES:Tuesday Night League
END:VEVENT
BEGIN:VEVENT
DTSTART;TZID=America/New_York:20260414T193000
DTEND;TZID=America/New_York:20260414T233000
DTSTAMP:20260423T094654
CREATED:20260128T180914Z
LAST-MODIFIED:20260128T185211Z
UID:3630-1776195000-1776209400@www.piedmontdarts.org
SUMMARY:Tuesday League - BullsHit vs Full of Bull
DESCRIPTION:B League Schedule
URL:https://www.piedmontdarts.org/event/tuesday-league-bullshit-vs-full-of-bull-4/
LOCATION:Breakers\, 435 Dolley Madison Rd #G\, Greensboro\, 27410\, United States
CATEGORIES:Tuesday Night League
END:VEVENT
BEGIN:VEVENT
DTSTART;TZID=America/New_York:20260414T193000
DTEND;TZID=America/New_York:20260414T233000
DTSTAMP:20260423T094654
CREATED:20260128T180915Z
LAST-MODIFIED:20260128T185211Z
UID:3632-1776195000-1776209400@www.piedmontdarts.org
SUMMARY:Tuesday League - PointDexters vs Taking Flight
DESCRIPTION:B League Schedule
URL:https://www.piedmontdarts.org/event/tuesday-league-pointdexters-vs-taking-flight-5/
LOCATION:The Alibi Bar and Lounge\, 28 Salem St\, Thomasville\, NC\, 27360\, United States
CATEGORIES:Tuesday Night League
END:VEVENT
BEGIN:VEVENT
DTSTART;TZID=America/New_York:20260414T193000
DTEND;TZID=America/New_York:20260414T233000
DTSTAMP:20260423T094654
CREATED:20260128T180915Z
LAST-MODIFIED:20260128T185211Z
UID:3631-1776195000-1776209400@www.piedmontdarts.org
SUMMARY:Tuesday League - Night Flights vs Old Darty Bastards
DESCRIPTION:B League Schedule
URL:https://www.piedmontdarts.org/event/tuesday-league-night-flights-vs-old-darty-bastards-4/
LOCATION:Village Square Tap House\, 6000 Meadowbrook Mall Ct #\, Clemmons\, 27012\, United States
CATEGORIES:Tuesday Night League
END:VEVENT
BEGIN:VEVENT
DTSTART;TZID=America/New_York:20260414T193000
DTEND;TZID=America/New_York:20260414T233000
DTSTAMP:20260423T094654
CREATED:20260128T181153Z
LAST-MODIFIED:20260128T185456Z
UID:3695-1776195000-1776209400@www.piedmontdarts.org
SUMMARY:Tuesday League - Dart Side of the Moon vs Village Square Idiots
DESCRIPTION:C League Schedule
URL:https://www.piedmontdarts.org/event/tuesday-league-dart-side-of-the-moon-vs-village-square-idiots-2/
LOCATION:The Alibi Bar and Lounge\, 28 Salem St\, Thomasville\, NC\, 27360\, United States
CATEGORIES:Tuesday Night League
END:VEVENT
BEGIN:VEVENT
DTSTART;TZID=America/New_York:20260414T193000
DTEND;TZID=America/New_York:20260414T233000
DTSTAMP:20260423T094654
CREATED:20260128T181153Z
LAST-MODIFIED:20260128T185456Z
UID:3696-1776195000-1776209400@www.piedmontdarts.org
SUMMARY:Tuesday League - Freedom Fighters vs Just the Tip
DESCRIPTION:C League Schedule
URL:https://www.piedmontdarts.org/event/tuesday-league-freedom-fighters-vs-just-the-tip-4/
LOCATION:Greensboro Elks Lodge\, 2201 W. Cornwallis Drive\, Greensboro\, NC\, 27408\, United States
CATEGORIES:Tuesday Night League
END:VEVENT
BEGIN:VEVENT
DTSTART;TZID=America/New_York:20260414T193000
DTEND;TZID=America/New_York:20260414T233000
DTSTAMP:20260423T094654
CREATED:20260128T181153Z
LAST-MODIFIED:20260128T185456Z
UID:3697-1776195000-1776209400@www.piedmontdarts.org
SUMMARY:Tuesday League - Little Debbie and the Snacks vs Off Target
DESCRIPTION:C League Schedule
URL:https://www.piedmontdarts.org/event/tuesday-league-little-debbie-and-the-snacks-vs-off-target-2/
LOCATION:Tavern (Century Park)\, 214 Century Blvd\, Kernersville\, NC\, 27284\, United States
CATEGORIES:Tuesday Night League
END:VEVENT
BEGIN:VEVENT
DTSTART;TZID=America/New_York:20260414T193000
DTEND;TZID=America/New_York:20260414T233000
DTSTAMP:20260423T094654
CREATED:20260128T181153Z
LAST-MODIFIED:20260128T185456Z
UID:3698-1776195000-1776209400@www.piedmontdarts.org
SUMMARY:Tuesday League - Wire We Here vs Shanghai Society
DESCRIPTION:C League Schedule
URL:https://www.piedmontdarts.org/event/tuesday-league-wire-we-here-vs-shanghai-society-2/
LOCATION:Village Square Tap House\, 6000 Meadowbrook Mall Ct #\, Clemmons\, 27012\, United States
CATEGORIES:Tuesday Night League
END:VEVENT
END:VCALENDAR