BEGIN:VCALENDAR
VERSION:2.0
PRODID:-//Piedmont Dart Association - ECPv6.15.20//NONSGML v1.0//EN
CALSCALE:GREGORIAN
METHOD:PUBLISH
X-ORIGINAL-URL:https://www.piedmontdarts.org
X-WR-CALDESC:Events for Piedmont Dart Association
REFRESH-INTERVAL;VALUE=DURATION:PT1H
X-Robots-Tag:noindex
X-PUBLISHED-TTL:PT1H
BEGIN:VTIMEZONE
TZID:America/New_York
BEGIN:DAYLIGHT
TZOFFSETFROM:-0500
TZOFFSETTO:-0400
TZNAME:EDT
DTSTART:20250309T070000
END:DAYLIGHT
BEGIN:STANDARD
TZOFFSETFROM:-0400
TZOFFSETTO:-0500
TZNAME:EST
DTSTART:20251102T060000
END:STANDARD
BEGIN:DAYLIGHT
TZOFFSETFROM:-0500
TZOFFSETTO:-0400
TZNAME:EDT
DTSTART:20260308T070000
END:DAYLIGHT
BEGIN:STANDARD
TZOFFSETFROM:-0400
TZOFFSETTO:-0500
TZNAME:EST
DTSTART:20261101T060000
END:STANDARD
BEGIN:DAYLIGHT
TZOFFSETFROM:-0500
TZOFFSETTO:-0400
TZNAME:EDT
DTSTART:20270314T070000
END:DAYLIGHT
BEGIN:STANDARD
TZOFFSETFROM:-0400
TZOFFSETTO:-0500
TZNAME:EST
DTSTART:20271107T060000
END:STANDARD
END:VTIMEZONE
BEGIN:VEVENT
DTSTART;TZID=America/New_York:20260505T193000
DTEND;TZID=America/New_York:20260505T233000
DTSTAMP:20260421T094733
CREATED:20260128T180741Z
LAST-MODIFIED:20260128T185011Z
UID:3594-1778009400-1778023800@www.piedmontdarts.org
SUMMARY:Tuesday League - Horsemen of the Dartpocalypse vs Wirey Bastards
DESCRIPTION:A League Schedule
URL:https://www.piedmontdarts.org/event/tuesday-league-horsemen-of-the-dartpocalypse-vs-wirey-bastards-4/
CATEGORIES:Tuesday Night League
END:VEVENT
BEGIN:VEVENT
DTSTART;TZID=America/New_York:20260505T193000
DTEND;TZID=America/New_York:20260505T233000
DTSTAMP:20260421T094733
CREATED:20260128T180751Z
LAST-MODIFIED:20260128T185025Z
UID:3595-1778009400-1778023800@www.piedmontdarts.org
SUMMARY:Tuesday League - Next Door Trippin vs Rumple Steel Tips
DESCRIPTION:A League Schedule
URL:https://www.piedmontdarts.org/event/tuesday-league-next-door-trippin-vs-rumple-steel-tips-4/
LOCATION:Breakers\, 435 Dolley Madison Rd #G\, Greensboro\, 27410\, United States
CATEGORIES:Tuesday Night League
END:VEVENT
BEGIN:VEVENT
DTSTART;TZID=America/New_York:20260505T193000
DTEND;TZID=America/New_York:20260505T233000
DTSTAMP:20260421T094733
CREATED:20260128T180751Z
LAST-MODIFIED:20260128T185026Z
UID:3596-1778009400-1778023800@www.piedmontdarts.org
SUMMARY:Tuesday League - Off Constantly vs Treble Makers
DESCRIPTION:A League Schedule
URL:https://www.piedmontdarts.org/event/tuesday-league-off-constantly-vs-treble-makers-4/
LOCATION:Old Nick’s Pub Arcadia\, 206 Millers Creek Dr. Ste A\, Winston Salem\, NC\, 27127\, United States
CATEGORIES:Tuesday Night League
END:VEVENT
BEGIN:VEVENT
DTSTART;TZID=America/New_York:20260505T193000
DTEND;TZID=America/New_York:20260505T233000
DTSTAMP:20260421T094733
CREATED:20260128T180925Z
LAST-MODIFIED:20260128T185226Z
UID:3639-1778009400-1778023800@www.piedmontdarts.org
SUMMARY:Tuesday League - Night Flights vs Taking Flight
DESCRIPTION:B League Schedule
URL:https://www.piedmontdarts.org/event/tuesday-league-night-flights-vs-taking-flight-4/
LOCATION:Village Square Tap House\, 6000 Meadowbrook Mall Ct #\, Clemmons\, 27012\, United States
CATEGORIES:Tuesday Night League
END:VEVENT
BEGIN:VEVENT
DTSTART;TZID=America/New_York:20260505T193000
DTEND;TZID=America/New_York:20260505T233000
DTSTAMP:20260421T094733
CREATED:20260128T180937Z
LAST-MODIFIED:20260128T185241Z
UID:3641-1778009400-1778023800@www.piedmontdarts.org
SUMMARY:Tuesday League - PointDexters vs BullsHit
DESCRIPTION:B League Schedule
URL:https://www.piedmontdarts.org/event/tuesday-league-pointdexters-vs-bullshit-4/
LOCATION:The Alibi Bar and Lounge\, 28 Salem St\, Thomasville\, NC\, 27360\, United States
CATEGORIES:Tuesday Night League
END:VEVENT
BEGIN:VEVENT
DTSTART;TZID=America/New_York:20260505T193000
DTEND;TZID=America/New_York:20260505T233000
DTSTAMP:20260421T094733
CREATED:20260128T180937Z
LAST-MODIFIED:20260128T185240Z
UID:3640-1778009400-1778023800@www.piedmontdarts.org
SUMMARY:Tuesday League - Old Darty Bastards vs Full of Bull
DESCRIPTION:B League Schedule
URL:https://www.piedmontdarts.org/event/tuesday-league-old-darty-bastards-vs-full-of-bull-4/
LOCATION:Breakers\, 435 Dolley Madison Rd #G\, Greensboro\, 27410\, United States
CATEGORIES:Tuesday Night League
END:VEVENT
BEGIN:VEVENT
DTSTART;TZID=America/New_York:20260505T193000
DTEND;TZID=America/New_York:20260505T233000
DTSTAMP:20260421T094733
CREATED:20260128T181212Z
LAST-MODIFIED:20260128T185526Z
UID:3707-1778009400-1778023800@www.piedmontdarts.org
SUMMARY:Tuesday League - Dart Side of the Moon vs Just the Tip
DESCRIPTION:C League Schedule
URL:https://www.piedmontdarts.org/event/tuesday-league-dart-side-of-the-moon-vs-just-the-tip-2/
LOCATION:The Alibi Bar and Lounge\, 28 Salem St\, Thomasville\, NC\, 27360\, United States
CATEGORIES:Tuesday Night League
END:VEVENT
BEGIN:VEVENT
DTSTART;TZID=America/New_York:20260505T193000
DTEND;TZID=America/New_York:20260505T233000
DTSTAMP:20260421T094733
CREATED:20260128T181213Z
LAST-MODIFIED:20260128T185526Z
UID:3708-1778009400-1778023800@www.piedmontdarts.org
SUMMARY:Tuesday League - Freedom Fighters vs Wire We Here
DESCRIPTION:C League Schedule
URL:https://www.piedmontdarts.org/event/tuesday-league-freedom-fighters-vs-wire-we-here-2/
LOCATION:Greensboro Elks Lodge\, 2201 W. Cornwallis Drive\, Greensboro\, NC\, 27408\, United States
CATEGORIES:Tuesday Night League
END:VEVENT
BEGIN:VEVENT
DTSTART;TZID=America/New_York:20260505T193000
DTEND;TZID=America/New_York:20260505T233000
DTSTAMP:20260421T094733
CREATED:20260128T181213Z
LAST-MODIFIED:20260128T185526Z
UID:3709-1778009400-1778023800@www.piedmontdarts.org
SUMMARY:Tuesday League - Little Debbie and the Snacks vs Shanghai Society
DESCRIPTION:C League Schedule
URL:https://www.piedmontdarts.org/event/tuesday-league-little-debbie-and-the-snacks-vs-shanghai-society-2/
LOCATION:Tavern (Century Park)\, 214 Century Blvd\, Kernersville\, NC\, 27284\, United States
CATEGORIES:Tuesday Night League
END:VEVENT
END:VCALENDAR