BEGIN:VCALENDAR
VERSION:2.0
PRODID:-//Piedmont Dart Association - ECPv6.15.20//NONSGML v1.0//EN
CALSCALE:GREGORIAN
METHOD:PUBLISH
X-ORIGINAL-URL:https://www.piedmontdarts.org
X-WR-CALDESC:Events for Piedmont Dart Association
REFRESH-INTERVAL;VALUE=DURATION:PT1H
X-Robots-Tag:noindex
X-PUBLISHED-TTL:PT1H
BEGIN:VTIMEZONE
TZID:America/New_York
BEGIN:DAYLIGHT
TZOFFSETFROM:-0500
TZOFFSETTO:-0400
TZNAME:EDT
DTSTART:20250309T070000
END:DAYLIGHT
BEGIN:STANDARD
TZOFFSETFROM:-0400
TZOFFSETTO:-0500
TZNAME:EST
DTSTART:20251102T060000
END:STANDARD
BEGIN:DAYLIGHT
TZOFFSETFROM:-0500
TZOFFSETTO:-0400
TZNAME:EDT
DTSTART:20260308T070000
END:DAYLIGHT
BEGIN:STANDARD
TZOFFSETFROM:-0400
TZOFFSETTO:-0500
TZNAME:EST
DTSTART:20261101T060000
END:STANDARD
BEGIN:DAYLIGHT
TZOFFSETFROM:-0500
TZOFFSETTO:-0400
TZNAME:EDT
DTSTART:20270314T070000
END:DAYLIGHT
BEGIN:STANDARD
TZOFFSETFROM:-0400
TZOFFSETTO:-0500
TZNAME:EST
DTSTART:20271107T060000
END:STANDARD
END:VTIMEZONE
BEGIN:VEVENT
DTSTART;TZID=America/New_York:20260511T190000
DTEND;TZID=America/New_York:20260511T233000
DTSTAMP:20260421T093932
CREATED:20260126T163048Z
LAST-MODIFIED:20260126T163048Z
UID:3472-1778526000-1778542200@www.piedmontdarts.org
SUMMARY:LOD @ Old Nick’s Pub – Lewisville
DESCRIPTION:Please arrive by 6:45PM to allow time to collect fee\, draw partners and set up the tournament bracket.
URL:https://www.piedmontdarts.org/event/lod-old-nicks-pub-lewisville-43/
CATEGORIES:Darts,LOD,Tournament
END:VEVENT
END:VCALENDAR