BEGIN:VCALENDAR
VERSION:2.0
PRODID:-//Piedmont Dart Association - ECPv6.15.20//NONSGML v1.0//EN
CALSCALE:GREGORIAN
METHOD:PUBLISH
X-WR-CALNAME:Piedmont Dart Association
X-ORIGINAL-URL:https://www.piedmontdarts.org
X-WR-CALDESC:Events for Piedmont Dart Association
REFRESH-INTERVAL;VALUE=DURATION:PT1H
X-Robots-Tag:noindex
X-PUBLISHED-TTL:PT1H
BEGIN:VTIMEZONE
TZID:America/New_York
BEGIN:DAYLIGHT
TZOFFSETFROM:-0500
TZOFFSETTO:-0400
TZNAME:EDT
DTSTART:20250309T070000
END:DAYLIGHT
BEGIN:STANDARD
TZOFFSETFROM:-0400
TZOFFSETTO:-0500
TZNAME:EST
DTSTART:20251102T060000
END:STANDARD
BEGIN:DAYLIGHT
TZOFFSETFROM:-0500
TZOFFSETTO:-0400
TZNAME:EDT
DTSTART:20260308T070000
END:DAYLIGHT
BEGIN:STANDARD
TZOFFSETFROM:-0400
TZOFFSETTO:-0500
TZNAME:EST
DTSTART:20261101T060000
END:STANDARD
BEGIN:DAYLIGHT
TZOFFSETFROM:-0500
TZOFFSETTO:-0400
TZNAME:EDT
DTSTART:20270314T070000
END:DAYLIGHT
BEGIN:STANDARD
TZOFFSETFROM:-0400
TZOFFSETTO:-0500
TZNAME:EST
DTSTART:20271107T060000
END:STANDARD
END:VTIMEZONE
BEGIN:VEVENT
DTSTART;TZID=America/New_York:20260422T191500
DTEND;TZID=America/New_York:20260422T233000
DTSTAMP:20260423T200902
CREATED:20260126T164055Z
LAST-MODIFIED:20260126T164627Z
UID:3500-1776885300-1776900600@www.piedmontdarts.org
SUMMARY:LOD @ Village Square Tap House
DESCRIPTION:
URL:https://www.piedmontdarts.org/event/lod-village-square-tap-house-38/
LOCATION:Village Square Tap House\, 6000 Meadowbrook Mall Ct #\, Clemmons\, 27012\, United States
CATEGORIES:Darts,LOD,Tournament
END:VEVENT
BEGIN:VEVENT
DTSTART;TZID=America/New_York:20260420T190000
DTEND;TZID=America/New_York:20260420T233000
DTSTAMP:20260423T200902
CREATED:20260126T162848Z
LAST-MODIFIED:20260126T162848Z
UID:3469-1776711600-1776727800@www.piedmontdarts.org
SUMMARY:LOD @ Old Nick’s Pub – Lewisville
DESCRIPTION:Please arrive by 6:45PM to allow time to collect fee\, draw partners and set up the tournament bracket.
URL:https://www.piedmontdarts.org/event/lod-old-nicks-pub-lewisville-40/
CATEGORIES:Darts,LOD,Tournament
END:VEVENT
BEGIN:VEVENT
DTSTART;TZID=America/New_York:20260415T191500
DTEND;TZID=America/New_York:20260415T233000
DTSTAMP:20260423T200902
CREATED:20260126T164054Z
LAST-MODIFIED:20260126T164627Z
UID:3499-1776280500-1776295800@www.piedmontdarts.org
SUMMARY:LOD @ Village Square Tap House
DESCRIPTION:
URL:https://www.piedmontdarts.org/event/lod-village-square-tap-house-37/
LOCATION:Village Square Tap House\, 6000 Meadowbrook Mall Ct #\, Clemmons\, 27012\, United States
CATEGORIES:Darts,LOD,Tournament
END:VEVENT
BEGIN:VEVENT
DTSTART;TZID=America/New_York:20260413T190000
DTEND;TZID=America/New_York:20260413T233000
DTSTAMP:20260423T200902
CREATED:20260126T162848Z
LAST-MODIFIED:20260126T162848Z
UID:3468-1776106800-1776123000@www.piedmontdarts.org
SUMMARY:LOD @ Old Nick’s Pub – Lewisville
DESCRIPTION:Please arrive by 6:45PM to allow time to collect fee\, draw partners and set up the tournament bracket.
URL:https://www.piedmontdarts.org/event/lod-old-nicks-pub-lewisville-39/
CATEGORIES:Darts,LOD,Tournament
END:VEVENT
BEGIN:VEVENT
DTSTART;TZID=America/New_York:20260408T191500
DTEND;TZID=America/New_York:20260408T233000
DTSTAMP:20260423T200902
CREATED:20260126T164054Z
LAST-MODIFIED:20260126T164626Z
UID:3498-1775675700-1775691000@www.piedmontdarts.org
SUMMARY:LOD @ Village Square Tap House
DESCRIPTION:
URL:https://www.piedmontdarts.org/event/lod-village-square-tap-house-10/
LOCATION:Village Square Tap House\, 6000 Meadowbrook Mall Ct #\, Clemmons\, 27012\, United States
CATEGORIES:Darts,LOD,Tournament
END:VEVENT
BEGIN:VEVENT
DTSTART;TZID=America/New_York:20260406T190000
DTEND;TZID=America/New_York:20260406T233000
DTSTAMP:20260423T200902
CREATED:20260126T162847Z
LAST-MODIFIED:20260126T162847Z
UID:3467-1775502000-1775518200@www.piedmontdarts.org
SUMMARY:LOD @ Old Nick’s Pub – Lewisville
DESCRIPTION:Please arrive by 6:45PM to allow time to collect fee\, draw partners and set up the tournament bracket.
URL:https://www.piedmontdarts.org/event/lod-old-nicks-pub-lewisville-11/
CATEGORIES:Darts,LOD,Tournament
END:VEVENT
BEGIN:VEVENT
DTSTART;TZID=America/New_York:20260401T191500
DTEND;TZID=America/New_York:20260401T233000
DTSTAMP:20260423T200902
CREATED:20260126T164054Z
LAST-MODIFIED:20260126T164426Z
UID:3497-1775070900-1775086200@www.piedmontdarts.org
SUMMARY:LOD @ Village Square Tap House
DESCRIPTION:
URL:https://www.piedmontdarts.org/event/lod-village-square-tap-house-9/
LOCATION:Village Square Tap House\, 6000 Meadowbrook Mall Ct #\, Clemmons\, 27012\, United States
CATEGORIES:Darts,LOD,Tournament
END:VEVENT
BEGIN:VEVENT
DTSTART;TZID=America/New_York:20260330T190000
DTEND;TZID=America/New_York:20260330T233000
DTSTAMP:20260423T200902
CREATED:20260126T162832Z
LAST-MODIFIED:20260126T162832Z
UID:3466-1774897200-1774913400@www.piedmontdarts.org
SUMMARY:LOD @ Old Nick’s Pub – Lewisville
DESCRIPTION:Please arrive by 6:45PM to allow time to collect fee\, draw partners and set up the tournament bracket.
URL:https://www.piedmontdarts.org/event/lod-old-nicks-pub-lewisville-10/
CATEGORIES:Darts,LOD,Tournament
END:VEVENT
BEGIN:VEVENT
DTSTART;TZID=America/New_York:20260325T191500
DTEND;TZID=America/New_York:20260325T233000
DTSTAMP:20260423T200902
CREATED:20260126T164054Z
LAST-MODIFIED:20260126T164426Z
UID:3496-1774466100-1774481400@www.piedmontdarts.org
SUMMARY:LOD @ Village Square Tap House
DESCRIPTION:
URL:https://www.piedmontdarts.org/event/lod-village-square-tap-house-8/
LOCATION:Village Square Tap House\, 6000 Meadowbrook Mall Ct #\, Clemmons\, 27012\, United States
CATEGORIES:Darts,LOD,Tournament
END:VEVENT
BEGIN:VEVENT
DTSTART;TZID=America/New_York:20260323T190000
DTEND;TZID=America/New_York:20260323T233000
DTSTAMP:20260423T200902
CREATED:20260126T162831Z
LAST-MODIFIED:20260126T162831Z
UID:3465-1774292400-1774308600@www.piedmontdarts.org
SUMMARY:LOD @ Old Nick’s Pub – Lewisville
DESCRIPTION:Please arrive by 6:45PM to allow time to collect fee\, draw partners and set up the tournament bracket.
URL:https://www.piedmontdarts.org/event/lod-old-nicks-pub-lewisville-9/
CATEGORIES:Darts,LOD,Tournament
END:VEVENT
BEGIN:VEVENT
DTSTART;TZID=America/New_York:20260318T191500
DTEND;TZID=America/New_York:20260318T233000
DTSTAMP:20260423T200902
CREATED:20260126T164053Z
LAST-MODIFIED:20260126T164426Z
UID:3495-1773861300-1773876600@www.piedmontdarts.org
SUMMARY:LOD @ Village Square Tap House
DESCRIPTION:
URL:https://www.piedmontdarts.org/event/lod-village-square-tap-house-7/
LOCATION:Village Square Tap House\, 6000 Meadowbrook Mall Ct #\, Clemmons\, 27012\, United States
CATEGORIES:Darts,LOD,Tournament
END:VEVENT
BEGIN:VEVENT
DTSTART;TZID=America/New_York:20260316T190000
DTEND;TZID=America/New_York:20260316T233000
DTSTAMP:20260423T200902
CREATED:20260126T162831Z
LAST-MODIFIED:20260126T162831Z
UID:3464-1773687600-1773703800@www.piedmontdarts.org
SUMMARY:LOD @ Old Nick’s Pub – Lewisville
DESCRIPTION:Please arrive by 6:45PM to allow time to collect fee\, draw partners and set up the tournament bracket.
URL:https://www.piedmontdarts.org/event/lod-old-nicks-pub-lewisville-8/
CATEGORIES:Darts,LOD,Tournament
END:VEVENT
BEGIN:VEVENT
DTSTART;TZID=America/New_York:20260311T191500
DTEND;TZID=America/New_York:20260311T233000
DTSTAMP:20260423T200902
CREATED:20260126T164425Z
LAST-MODIFIED:20260126T164426Z
UID:3523-1773256500-1773271800@www.piedmontdarts.org
SUMMARY:LOD @ Village Square Tap House
DESCRIPTION:
URL:https://www.piedmontdarts.org/event/lod-village-square-tap-house-52/
LOCATION:Village Square Tap House\, 6000 Meadowbrook Mall Ct #\, Clemmons\, 27012\, United States
CATEGORIES:Darts,LOD,Tournament
END:VEVENT
BEGIN:VEVENT
DTSTART;TZID=America/New_York:20260309T190000
DTEND;TZID=America/New_York:20260309T233000
DTSTAMP:20260423T200902
CREATED:20260126T162831Z
LAST-MODIFIED:20260126T162831Z
UID:3463-1773082800-1773099000@www.piedmontdarts.org
SUMMARY:LOD @ Old Nick’s Pub – Lewisville
DESCRIPTION:Please arrive by 6:45PM to allow time to collect fee\, draw partners and set up the tournament bracket.
URL:https://www.piedmontdarts.org/event/lod-old-nicks-pub-lewisville-7/
CATEGORIES:Darts,LOD,Tournament
END:VEVENT
BEGIN:VEVENT
DTSTART;TZID=America/New_York:20260304T191500
DTEND;TZID=America/New_York:20260304T233000
DTSTAMP:20260423T200902
CREATED:20260126T164053Z
LAST-MODIFIED:20260126T164426Z
UID:3493-1772651700-1772667000@www.piedmontdarts.org
SUMMARY:LOD @ Village Square Tap House
DESCRIPTION:
URL:https://www.piedmontdarts.org/event/lod-village-square-tap-house-6/
LOCATION:Village Square Tap House\, 6000 Meadowbrook Mall Ct #\, Clemmons\, 27012\, United States
CATEGORIES:Darts,LOD,Tournament
END:VEVENT
BEGIN:VEVENT
DTSTART;TZID=America/New_York:20260302T190000
DTEND;TZID=America/New_York:20260302T233000
DTSTAMP:20260423T200902
CREATED:20260126T162831Z
LAST-MODIFIED:20260126T162831Z
UID:3462-1772478000-1772494200@www.piedmontdarts.org
SUMMARY:LOD @ Old Nick’s Pub – Lewisville
DESCRIPTION:Please arrive by 6:45PM to allow time to collect fee\, draw partners and set up the tournament bracket.
URL:https://www.piedmontdarts.org/event/lod-old-nicks-pub-lewisville-6/
CATEGORIES:Darts,LOD,Tournament
END:VEVENT
BEGIN:VEVENT
DTSTART;TZID=America/New_York:20260225T191500
DTEND;TZID=America/New_York:20260225T233000
DTSTAMP:20260423T200902
CREATED:20260126T164044Z
LAST-MODIFIED:20260126T164420Z
UID:3492-1772046900-1772062200@www.piedmontdarts.org
SUMMARY:LOD @ Village Square Tap House
DESCRIPTION:
URL:https://www.piedmontdarts.org/event/lod-village-square-tap-house-5/
LOCATION:Village Square Tap House\, 6000 Meadowbrook Mall Ct #\, Clemmons\, 27012\, United States
CATEGORIES:Darts,LOD,Tournament
END:VEVENT
BEGIN:VEVENT
DTSTART;TZID=America/New_York:20260223T190000
DTEND;TZID=America/New_York:20260223T233000
DTSTAMP:20260423T200902
CREATED:20260126T162822Z
LAST-MODIFIED:20260126T162822Z
UID:3461-1771873200-1771889400@www.piedmontdarts.org
SUMMARY:LOD @ Old Nick’s Pub – Lewisville
DESCRIPTION:Please arrive by 6:45PM to allow time to collect fee\, draw partners and set up the tournament bracket.
URL:https://www.piedmontdarts.org/event/lod-old-nicks-pub-lewisville-5/
CATEGORIES:Darts,LOD,Tournament
END:VEVENT
BEGIN:VEVENT
DTSTART;TZID=America/New_York:20260218T191500
DTEND;TZID=America/New_York:20260218T233000
DTSTAMP:20260423T200902
CREATED:20260126T164044Z
LAST-MODIFIED:20260126T164419Z
UID:3491-1771442100-1771457400@www.piedmontdarts.org
SUMMARY:LOD @ Village Square Tap House
DESCRIPTION:
URL:https://www.piedmontdarts.org/event/lod-village-square-tap-house-4/
LOCATION:Village Square Tap House\, 6000 Meadowbrook Mall Ct #\, Clemmons\, 27012\, United States
CATEGORIES:Darts,LOD,Tournament
END:VEVENT
BEGIN:VEVENT
DTSTART;TZID=America/New_York:20260216T190000
DTEND;TZID=America/New_York:20260216T233000
DTSTAMP:20260423T200902
CREATED:20260126T162822Z
LAST-MODIFIED:20260126T162822Z
UID:3460-1771268400-1771284600@www.piedmontdarts.org
SUMMARY:LOD @ Old Nick’s Pub – Lewisville
DESCRIPTION:Please arrive by 6:45PM to allow time to collect fee\, draw partners and set up the tournament bracket.
URL:https://www.piedmontdarts.org/event/lod-old-nicks-pub-lewisville-4/
CATEGORIES:Darts,LOD,Tournament
END:VEVENT
BEGIN:VEVENT
DTSTART;TZID=America/New_York:20260211T191500
DTEND;TZID=America/New_York:20260211T233000
DTSTAMP:20260423T200902
CREATED:20260126T164419Z
LAST-MODIFIED:20260126T164419Z
UID:3519-1770837300-1770852600@www.piedmontdarts.org
SUMMARY:LOD @ Village Square Tap House
DESCRIPTION:
URL:https://www.piedmontdarts.org/event/lod-village-square-tap-house-51/
LOCATION:Village Square Tap House\, 6000 Meadowbrook Mall Ct #\, Clemmons\, 27012\, United States
CATEGORIES:Darts,LOD,Tournament
END:VEVENT
BEGIN:VEVENT
DTSTART;TZID=America/New_York:20260209T190000
DTEND;TZID=America/New_York:20260209T233000
DTSTAMP:20260423T200902
CREATED:20260126T162822Z
LAST-MODIFIED:20260126T162822Z
UID:3459-1770663600-1770679800@www.piedmontdarts.org
SUMMARY:LOD @ Old Nick’s Pub – Lewisville
DESCRIPTION:Please arrive by 6:45PM to allow time to collect fee\, draw partners and set up the tournament bracket.
URL:https://www.piedmontdarts.org/event/lod-old-nicks-pub-lewisville-3/
CATEGORIES:Darts,LOD,Tournament
END:VEVENT
BEGIN:VEVENT
DTSTART;TZID=America/New_York:20260204T191500
DTEND;TZID=America/New_York:20260204T233000
DTSTAMP:20260423T200902
CREATED:20260126T164044Z
LAST-MODIFIED:20260126T164419Z
UID:3489-1770232500-1770247800@www.piedmontdarts.org
SUMMARY:LOD @ Village Square Tap House
DESCRIPTION:
URL:https://www.piedmontdarts.org/event/lod-village-square-tap-house-2/
LOCATION:Village Square Tap House\, 6000 Meadowbrook Mall Ct #\, Clemmons\, 27012\, United States
CATEGORIES:Darts,LOD,Tournament
END:VEVENT
BEGIN:VEVENT
DTSTART;TZID=America/New_York:20260202T190000
DTEND;TZID=America/New_York:20260202T233000
DTSTAMP:20260423T200902
CREATED:20260126T162822Z
LAST-MODIFIED:20260126T162822Z
UID:3458-1770058800-1770075000@www.piedmontdarts.org
SUMMARY:LOD @ Old Nick’s Pub – Lewisville
DESCRIPTION:Please arrive by 6:45PM to allow time to collect fee\, draw partners and set up the tournament bracket.
URL:https://www.piedmontdarts.org/event/lod-old-nicks-pub-lewisville-2/
CATEGORIES:Darts,LOD,Tournament
END:VEVENT
BEGIN:VEVENT
DTSTART;TZID=America/New_York:20260128T191500
DTEND;TZID=America/New_York:20260128T233000
DTSTAMP:20260423T200902
CREATED:20260126T164043Z
LAST-MODIFIED:20260126T164419Z
UID:3488-1769627700-1769643000@www.piedmontdarts.org
SUMMARY:LOD @ Village Square Tap House
DESCRIPTION:
URL:https://www.piedmontdarts.org/event/lod-village-square-tap-house/
LOCATION:Village Square Tap House\, 6000 Meadowbrook Mall Ct #\, Clemmons\, 27012\, United States
CATEGORIES:Darts,LOD,Tournament
END:VEVENT
END:VCALENDAR