BEGIN:VCALENDAR
VERSION:2.0
PRODID:-//Piedmont Dart Association - ECPv6.15.20//NONSGML v1.0//EN
CALSCALE:GREGORIAN
METHOD:PUBLISH
X-WR-CALNAME:Piedmont Dart Association
X-ORIGINAL-URL:https://www.piedmontdarts.org
X-WR-CALDESC:Events for Piedmont Dart Association
REFRESH-INTERVAL;VALUE=DURATION:PT1H
X-Robots-Tag:noindex
X-PUBLISHED-TTL:PT1H
BEGIN:VTIMEZONE
TZID:America/New_York
BEGIN:DAYLIGHT
TZOFFSETFROM:-0500
TZOFFSETTO:-0400
TZNAME:EDT
DTSTART:20250309T070000
END:DAYLIGHT
BEGIN:STANDARD
TZOFFSETFROM:-0400
TZOFFSETTO:-0500
TZNAME:EST
DTSTART:20251102T060000
END:STANDARD
BEGIN:DAYLIGHT
TZOFFSETFROM:-0500
TZOFFSETTO:-0400
TZNAME:EDT
DTSTART:20260308T070000
END:DAYLIGHT
BEGIN:STANDARD
TZOFFSETFROM:-0400
TZOFFSETTO:-0500
TZNAME:EST
DTSTART:20261101T060000
END:STANDARD
BEGIN:DAYLIGHT
TZOFFSETFROM:-0500
TZOFFSETTO:-0400
TZNAME:EDT
DTSTART:20270314T070000
END:DAYLIGHT
BEGIN:STANDARD
TZOFFSETFROM:-0400
TZOFFSETTO:-0500
TZNAME:EST
DTSTART:20271107T060000
END:STANDARD
END:VTIMEZONE
BEGIN:VEVENT
DTSTART;TZID=America/New_York:20260407T193000
DTEND;TZID=America/New_York:20260407T233000
DTSTAMP:20260421T094910
CREATED:20260128T180723Z
LAST-MODIFIED:20260128T184941Z
UID:3582-1775590200-1775604600@www.piedmontdarts.org
SUMMARY:Tuesday League - Horsemen of the Dartpocalypse vs Off Constantly
DESCRIPTION:A League Schedule
URL:https://www.piedmontdarts.org/event/tuesday-league-horsemen-of-the-dartpocalypse-vs-off-constantly-2/
LOCATION:NC
CATEGORIES:Tuesday Night League
END:VEVENT
BEGIN:VEVENT
DTSTART;TZID=America/New_York:20260407T193000
DTEND;TZID=America/New_York:20260407T233000
DTSTAMP:20260421T094910
CREATED:20260128T180724Z
LAST-MODIFIED:20260128T184941Z
UID:3583-1775590200-1775604600@www.piedmontdarts.org
SUMMARY:Tuesday League - Next Door Trippin vs Treble Makers
DESCRIPTION:A League Schedule
URL:https://www.piedmontdarts.org/event/tuesday-league-next-door-trippin-vs-treble-makers-2/
LOCATION:Breakers\, 435 Dolley Madison Rd #G\, Greensboro\, 27410\, United States
CATEGORIES:Tuesday Night League
END:VEVENT
BEGIN:VEVENT
DTSTART;TZID=America/New_York:20260407T193000
DTEND;TZID=America/New_York:20260407T233000
DTSTAMP:20260421T094910
CREATED:20260128T180724Z
LAST-MODIFIED:20260128T184941Z
UID:3584-1775590200-1775604600@www.piedmontdarts.org
SUMMARY:Tuesday League - Wirey Bastards vs Rumple Steel Tips
DESCRIPTION:A League Schedule
URL:https://www.piedmontdarts.org/event/tuesday-league-wirey-bastards-vs-rumple-steel-tips-2/
LOCATION:Breakers\, 435 Dolley Madison Rd #G\, Greensboro\, 27410\, United States
CATEGORIES:Tuesday Night League
END:VEVENT
BEGIN:VEVENT
DTSTART;TZID=America/New_York:20260407T193000
DTEND;TZID=America/New_York:20260407T233000
DTSTAMP:20260421T094910
CREATED:20260128T180901Z
LAST-MODIFIED:20260128T185156Z
UID:3629-1775590200-1775604600@www.piedmontdarts.org
SUMMARY:Tuesday League - Taking Flight vs Full of Bull
DESCRIPTION:B League Schedule
URL:https://www.piedmontdarts.org/event/tuesday-league-taking-flight-vs-full-of-bull-4/
LOCATION:Greensboro Elks Lodge\, 2201 W. Cornwallis Drive\, Greensboro\, NC\, 27408\, United States
CATEGORIES:Tuesday Night League
END:VEVENT
BEGIN:VEVENT
DTSTART;TZID=America/New_York:20260407T193000
DTEND;TZID=America/New_York:20260407T233000
DTSTAMP:20260421T094910
CREATED:20260128T180901Z
LAST-MODIFIED:20260128T185156Z
UID:3627-1775590200-1775604600@www.piedmontdarts.org
SUMMARY:Tuesday League - Night Flights vs PointDexters
DESCRIPTION:B League Schedule
URL:https://www.piedmontdarts.org/event/tuesday-league-night-flights-vs-pointdexters-3/
LOCATION:Village Square Tap House\, 6000 Meadowbrook Mall Ct #\, Clemmons\, 27012\, United States
CATEGORIES:Tuesday Night League
END:VEVENT
BEGIN:VEVENT
DTSTART;TZID=America/New_York:20260407T193000
DTEND;TZID=America/New_York:20260407T233000
DTSTAMP:20260421T094910
CREATED:20260128T180901Z
LAST-MODIFIED:20260128T185156Z
UID:3628-1775590200-1775604600@www.piedmontdarts.org
SUMMARY:Tuesday League - Old Darty Bastards vs BullsHit
DESCRIPTION:B League Schedule
URL:https://www.piedmontdarts.org/event/tuesday-league-old-darty-bastards-vs-bullshit-2/
LOCATION:Breakers\, 435 Dolley Madison Rd #G\, Greensboro\, 27410\, United States
CATEGORIES:Tuesday Night League
END:VEVENT
BEGIN:VEVENT
DTSTART;TZID=America/New_York:20260407T193000
DTEND;TZID=America/New_York:20260407T233000
DTSTAMP:20260421T094910
CREATED:20260128T181146Z
LAST-MODIFIED:20260128T185441Z
UID:3691-1775590200-1775604600@www.piedmontdarts.org
SUMMARY:Tuesday League - Freedom Fighters vs Shanghai Society
DESCRIPTION:C League Schedule
URL:https://www.piedmontdarts.org/event/tuesday-league-freedom-fighters-vs-shanghai-society-2/
LOCATION:Greensboro Elks Lodge\, 2201 W. Cornwallis Drive\, Greensboro\, NC\, 27408\, United States
CATEGORIES:Tuesday Night League
END:VEVENT
BEGIN:VEVENT
DTSTART;TZID=America/New_York:20260407T193000
DTEND;TZID=America/New_York:20260407T233000
DTSTAMP:20260421T094910
CREATED:20260128T181146Z
LAST-MODIFIED:20260128T185441Z
UID:3692-1775590200-1775604600@www.piedmontdarts.org
SUMMARY:Tuesday League - Just the Tip vs Wire We Here
DESCRIPTION:C League Schedule
URL:https://www.piedmontdarts.org/event/tuesday-league-just-the-tip-vs-wire-we-here-2/
LOCATION:The Alibi Bar and Lounge\, 28 Salem St\, Thomasville\, NC\, 27360\, United States
CATEGORIES:Tuesday Night League
END:VEVENT
BEGIN:VEVENT
DTSTART;TZID=America/New_York:20260407T193000
DTEND;TZID=America/New_York:20260407T233000
DTSTAMP:20260421T094910
CREATED:20260128T181147Z
LAST-MODIFIED:20260128T185441Z
UID:3693-1775590200-1775604600@www.piedmontdarts.org
SUMMARY:Tuesday League - Off Target vs Dart Side of the Moon
DESCRIPTION:C League Schedule
URL:https://www.piedmontdarts.org/event/tuesday-league-off-target-vs-dart-side-of-the-moon-2/
LOCATION:NC
CATEGORIES:Tuesday Night League
END:VEVENT
BEGIN:VEVENT
DTSTART;TZID=America/New_York:20260407T193000
DTEND;TZID=America/New_York:20260407T233000
DTSTAMP:20260421T094910
CREATED:20260128T181147Z
LAST-MODIFIED:20260128T185441Z
UID:3694-1775590200-1775604600@www.piedmontdarts.org
SUMMARY:Tuesday League - Village Square Idiots vs Little Debbie and the Snacks
DESCRIPTION:C League Schedule
URL:https://www.piedmontdarts.org/event/tuesday-league-village-square-idiots-vs-little-debbie-and-the-snacks-4/
LOCATION:Village Square Tap House\, 6000 Meadowbrook Mall Ct #\, Clemmons\, 27012\, United States
CATEGORIES:Tuesday Night League
END:VEVENT
END:VCALENDAR