BEGIN:VCALENDAR
VERSION:2.0
PRODID:-//Piedmont Dart Association - ECPv6.15.20//NONSGML v1.0//EN
CALSCALE:GREGORIAN
METHOD:PUBLISH
X-ORIGINAL-URL:https://www.piedmontdarts.org
X-WR-CALDESC:Events for Piedmont Dart Association
REFRESH-INTERVAL;VALUE=DURATION:PT1H
X-Robots-Tag:noindex
X-PUBLISHED-TTL:PT1H
BEGIN:VTIMEZONE
TZID:America/New_York
BEGIN:DAYLIGHT
TZOFFSETFROM:-0500
TZOFFSETTO:-0400
TZNAME:EDT
DTSTART:20250309T070000
END:DAYLIGHT
BEGIN:STANDARD
TZOFFSETFROM:-0400
TZOFFSETTO:-0500
TZNAME:EST
DTSTART:20251102T060000
END:STANDARD
BEGIN:DAYLIGHT
TZOFFSETFROM:-0500
TZOFFSETTO:-0400
TZNAME:EDT
DTSTART:20260308T070000
END:DAYLIGHT
BEGIN:STANDARD
TZOFFSETFROM:-0400
TZOFFSETTO:-0500
TZNAME:EST
DTSTART:20261101T060000
END:STANDARD
BEGIN:DAYLIGHT
TZOFFSETFROM:-0500
TZOFFSETTO:-0400
TZNAME:EDT
DTSTART:20270314T070000
END:DAYLIGHT
BEGIN:STANDARD
TZOFFSETFROM:-0400
TZOFFSETTO:-0500
TZNAME:EST
DTSTART:20271107T060000
END:STANDARD
END:VTIMEZONE
BEGIN:VTIMEZONE
TZID:UTC
BEGIN:STANDARD
TZOFFSETFROM:+0000
TZOFFSETTO:+0000
TZNAME:UTC
DTSTART:20250101T000000
END:STANDARD
END:VTIMEZONE
BEGIN:VEVENT
DTSTART;TZID=America/New_York:20260310T193000
DTEND;TZID=America/New_York:20260310T233000
DTSTAMP:20260421T115251
CREATED:20260128T180706Z
LAST-MODIFIED:20260128T184911Z
UID:3570-1773171000-1773185400@www.piedmontdarts.org
SUMMARY:Tuesday League - Next Door Trippin vs Horsemen of the Dartpocalypse
DESCRIPTION:A League Schedule
URL:https://www.piedmontdarts.org/event/tuesday-league-next-door-trippin-vs-horsemen-of-the-dartpocalypse-2/
LOCATION:Breakers\, 435 Dolley Madison Rd #G\, Greensboro\, 27410\, United States
CATEGORIES:Tuesday Night League
END:VEVENT
BEGIN:VEVENT
DTSTART;TZID=America/New_York:20260310T193000
DTEND;TZID=America/New_York:20260310T233000
DTSTAMP:20260421T115251
CREATED:20260128T180707Z
LAST-MODIFIED:20260128T184911Z
UID:3571-1773171000-1773185400@www.piedmontdarts.org
SUMMARY:Tuesday League - Rumple Steel Tips vs Treble Makers
DESCRIPTION:A League Schedule
URL:https://www.piedmontdarts.org/event/tuesday-league-rumple-steel-tips-vs-treble-makers-2/
LOCATION:Tavern (Century Park)\, 214 Century Blvd\, Kernersville\, NC\, 27284\, United States
CATEGORIES:Tuesday Night League
END:VEVENT
BEGIN:VEVENT
DTSTART;TZID=America/New_York:20260310T193000
DTEND;TZID=America/New_York:20260310T233000
DTSTAMP:20260421T115251
CREATED:20260128T180707Z
LAST-MODIFIED:20260128T184911Z
UID:3572-1773171000-1773185400@www.piedmontdarts.org
SUMMARY:Tuesday League - Wirey Bastards vs Off Constantly
DESCRIPTION:A League Schedule
URL:https://www.piedmontdarts.org/event/tuesday-league-wirey-bastards-vs-off-constantly-4/
LOCATION:Breakers\, 435 Dolley Madison Rd #G\, Greensboro\, 27410\, United States
CATEGORIES:Tuesday Night League
END:VEVENT
BEGIN:VEVENT
DTSTART;TZID=America/New_York:20260310T193000
DTEND;TZID=America/New_York:20260310T233000
DTSTAMP:20260421T115251
CREATED:20260128T180837Z
LAST-MODIFIED:20260128T185126Z
UID:3615-1773171000-1773185400@www.piedmontdarts.org
SUMMARY:Tuesday League - Full of Bull vs BullsHit
DESCRIPTION:B League Schedule
URL:https://www.piedmontdarts.org/event/tuesday-league-full-of-bull-vs-bullshit-2/
LOCATION:Old Nick’s Pub – Lewisville\, 191 Lowes Foods Dr.\, Lewisville\, 27023\, United States
CATEGORIES:Tuesday Night League
END:VEVENT
BEGIN:VEVENT
DTSTART;TZID=America/New_York:20260310T193000
DTEND;TZID=America/New_York:20260310T233000
DTSTAMP:20260421T115251
CREATED:20260128T180837Z
LAST-MODIFIED:20260128T185126Z
UID:3616-1773171000-1773185400@www.piedmontdarts.org
SUMMARY:Tuesday League - Old Darty Bastards vs Night Flights
DESCRIPTION:B League Schedule
URL:https://www.piedmontdarts.org/event/tuesday-league-old-darty-bastards-vs-night-flights-2/
LOCATION:Breakers\, 435 Dolley Madison Rd #G\, Greensboro\, 27410\, United States
CATEGORIES:Tuesday Night League
END:VEVENT
BEGIN:VEVENT
DTSTART;TZID=America/New_York:20260310T193000
DTEND;TZID=America/New_York:20260310T233000
DTSTAMP:20260421T115251
CREATED:20260128T180838Z
LAST-MODIFIED:20260128T185126Z
UID:3617-1773171000-1773185400@www.piedmontdarts.org
SUMMARY:Tuesday League - Taking Flight vs PointDexters
DESCRIPTION:B League Schedule
URL:https://www.piedmontdarts.org/event/tuesday-league-taking-flight-vs-pointdexters-3/
LOCATION:Greensboro Elks Lodge\, 2201 W. Cornwallis Drive\, Greensboro\, NC\, 27408\, United States
CATEGORIES:Tuesday Night League
END:VEVENT
BEGIN:VEVENT
DTSTART;TZID=America/New_York:20260310T193000
DTEND;TZID=America/New_York:20260310T233000
DTSTAMP:20260421T115251
CREATED:20260128T181123Z
LAST-MODIFIED:20260128T185356Z
UID:3676-1773171000-1773185400@www.piedmontdarts.org
SUMMARY:Tuesday League - Little Debbie and the Snacks vs Just the Tip
DESCRIPTION:C League Schedule
URL:https://www.piedmontdarts.org/event/tuesday-league-little-debbie-and-the-snacks-vs-just-the-tip-3/
LOCATION:Tavern (Century Park)\, 214 Century Blvd\, Kernersville\, NC\, 27284\, United States
CATEGORIES:Tuesday Night League
END:VEVENT
BEGIN:VEVENT
DTSTART;TZID=America/New_York:20260310T193000
DTEND;TZID=America/New_York:20260310T233000
DTSTAMP:20260421T115251
CREATED:20260128T181123Z
LAST-MODIFIED:20260128T185356Z
UID:3677-1773171000-1773185400@www.piedmontdarts.org
SUMMARY:Tuesday League - Off Target vs Freedom Fighters
DESCRIPTION:C League Schedule
URL:https://www.piedmontdarts.org/event/tuesday-league-off-target-vs-freedom-fighters-2/
LOCATION:NC
CATEGORIES:Tuesday Night League
END:VEVENT
BEGIN:VEVENT
DTSTART;TZID=America/New_York:20260310T193000
DTEND;TZID=America/New_York:20260310T233000
DTSTAMP:20260421T115251
CREATED:20260128T181123Z
LAST-MODIFIED:20260128T185356Z
UID:3678-1773171000-1773185400@www.piedmontdarts.org
SUMMARY:Tuesday League - Village Square Idiots vs Wire We Here
DESCRIPTION:C League Schedule
URL:https://www.piedmontdarts.org/event/tuesday-league-village-square-idiots-vs-wire-we-here-2/
LOCATION:Village Square Tap House\, 6000 Meadowbrook Mall Ct #\, Clemmons\, 27012\, United States
CATEGORIES:Tuesday Night League
END:VEVENT
BEGIN:VEVENT
DTSTART;TZID=America/New_York:20260310T193000
DTEND;TZID=America/New_York:20260310T233000
DTSTAMP:20260421T115251
CREATED:20260128T181123Z
LAST-MODIFIED:20260128T185356Z
UID:3675-1773171000-1773185400@www.piedmontdarts.org
SUMMARY:Tuesday League - Dart Side of the Moon vs Shanghai Society
DESCRIPTION:C League Schedule
URL:https://www.piedmontdarts.org/event/tuesday-league-dart-side-of-the-moon-vs-shanghai-society-2/
LOCATION:The Alibi Bar and Lounge\, 28 Salem St\, Thomasville\, NC\, 27360\, United States
CATEGORIES:Tuesday Night League
END:VEVENT
BEGIN:VEVENT
DTSTART;TZID=America/New_York:20260311T191500
DTEND;TZID=America/New_York:20260311T233000
DTSTAMP:20260421T115251
CREATED:20260126T164425Z
LAST-MODIFIED:20260126T164426Z
UID:3523-1773256500-1773271800@www.piedmontdarts.org
SUMMARY:LOD @ Village Square Tap House
DESCRIPTION:
URL:https://www.piedmontdarts.org/event/lod-village-square-tap-house-52/
LOCATION:Village Square Tap House\, 6000 Meadowbrook Mall Ct #\, Clemmons\, 27012\, United States
CATEGORIES:Darts,LOD,Tournament
END:VEVENT
BEGIN:VEVENT
DTSTART;TZID=UTC:20260313T080000
DTEND;TZID=UTC:20260315T170000
DTSTAMP:20260421T115251
CREATED:20260220T153631Z
LAST-MODIFIED:20260220T153631Z
UID:4056-1773388800-1773594000@www.piedmontdarts.org
SUMMARY:42nd Annual $2\,920 St. Patrick's Dart Tournament
DESCRIPTION:View FullscreenSkip to PDF content
URL:https://www.piedmontdarts.org/event/42nd-annual-2920-st-patricks-dart-tournament/
LOCATION:Breakers\, 435 Dolley Madison Rd #G\, Greensboro\, 27410\, United States
CATEGORIES:PDA Tournaments
END:VEVENT
BEGIN:VEVENT
DTSTART;TZID=America/New_York:20260316T190000
DTEND;TZID=America/New_York:20260316T233000
DTSTAMP:20260421T115251
CREATED:20260126T162831Z
LAST-MODIFIED:20260126T162831Z
UID:3464-1773687600-1773703800@www.piedmontdarts.org
SUMMARY:LOD @ Old Nick’s Pub – Lewisville
DESCRIPTION:Please arrive by 6:45PM to allow time to collect fee\, draw partners and set up the tournament bracket.
URL:https://www.piedmontdarts.org/event/lod-old-nicks-pub-lewisville-8/
LOCATION:NC
CATEGORIES:Darts,LOD,Tournament
END:VEVENT
BEGIN:VEVENT
DTSTART;TZID=America/New_York:20260317T193000
DTEND;TZID=America/New_York:20260317T233000
DTSTAMP:20260421T115251
CREATED:20260128T180707Z
LAST-MODIFIED:20260128T184912Z
UID:3574-1773775800-1773790200@www.piedmontdarts.org
SUMMARY:Tuesday League - Off Constantly vs Next Door Trippin
DESCRIPTION:A League Schedule
URL:https://www.piedmontdarts.org/event/tuesday-league-off-constantly-vs-next-door-trippin-3/
LOCATION:Old Nick’s Pub Arcadia\, 206 Millers Creek Dr. Ste A\, Winston Salem\, NC\, 27127\, United States
CATEGORIES:Tuesday Night League
END:VEVENT
BEGIN:VEVENT
DTSTART;TZID=America/New_York:20260317T193000
DTEND;TZID=America/New_York:20260317T233000
DTSTAMP:20260421T115251
CREATED:20260128T180707Z
LAST-MODIFIED:20260128T184911Z
UID:3573-1773775800-1773790200@www.piedmontdarts.org
SUMMARY:Tuesday League - Horsemen of the Dartpocalypse vs Rumple Steel Tips
DESCRIPTION:A League Schedule
URL:https://www.piedmontdarts.org/event/tuesday-league-horsemen-of-the-dartpocalypse-vs-rumple-steel-tips-2/
LOCATION:NC
CATEGORIES:Tuesday Night League
END:VEVENT
BEGIN:VEVENT
DTSTART;TZID=America/New_York:20260317T193000
DTEND;TZID=America/New_York:20260317T233000
DTSTAMP:20260421T115251
CREATED:20260128T180713Z
LAST-MODIFIED:20260128T184925Z
UID:3575-1773775800-1773790200@www.piedmontdarts.org
SUMMARY:Tuesday League - Treble Makers vs Wirey Bastards
DESCRIPTION:A League Schedule
URL:https://www.piedmontdarts.org/event/tuesday-league-treble-makers-vs-wirey-bastards-2/
LOCATION:Breakers\, 435 Dolley Madison Rd #G\, Greensboro\, 27410\, United States
CATEGORIES:Tuesday Night League
END:VEVENT
BEGIN:VEVENT
DTSTART;TZID=America/New_York:20260317T193000
DTEND;TZID=America/New_York:20260317T233000
DTSTAMP:20260421T115251
CREATED:20260128T180838Z
LAST-MODIFIED:20260128T185126Z
UID:3618-1773775800-1773790200@www.piedmontdarts.org
SUMMARY:Tuesday League - BullsHit vs Taking Flight
DESCRIPTION:B League Schedule
URL:https://www.piedmontdarts.org/event/tuesday-league-bullshit-vs-taking-flight-2/
LOCATION:Breakers\, 435 Dolley Madison Rd #G\, Greensboro\, 27410\, United States
CATEGORIES:Tuesday Night League
END:VEVENT
BEGIN:VEVENT
DTSTART;TZID=America/New_York:20260317T193000
DTEND;TZID=America/New_York:20260317T233000
DTSTAMP:20260421T115251
CREATED:20260128T180838Z
LAST-MODIFIED:20260128T185126Z
UID:3619-1773775800-1773790200@www.piedmontdarts.org
SUMMARY:Tuesday League - Night Flights vs Full of Bull
DESCRIPTION:B League Schedule
URL:https://www.piedmontdarts.org/event/tuesday-league-night-flights-vs-full-of-bull-2/
LOCATION:Village Square Tap House\, 6000 Meadowbrook Mall Ct #\, Clemmons\, 27012\, United States
CATEGORIES:Tuesday Night League
END:VEVENT
BEGIN:VEVENT
DTSTART;TZID=America/New_York:20260317T193000
DTEND;TZID=America/New_York:20260317T233000
DTSTAMP:20260421T115251
CREATED:20260128T180850Z
LAST-MODIFIED:20260128T185141Z
UID:3620-1773775800-1773790200@www.piedmontdarts.org
SUMMARY:Tuesday League - PointDexters vs Old Darty Bastards
DESCRIPTION:B League Schedule
URL:https://www.piedmontdarts.org/event/tuesday-league-pointdexters-vs-old-darty-bastards-2/
LOCATION:The Alibi Bar and Lounge\, 28 Salem St\, Thomasville\, NC\, 27360\, United States
CATEGORIES:Tuesday Night League
END:VEVENT
BEGIN:VEVENT
DTSTART;TZID=America/New_York:20260317T193000
DTEND;TZID=America/New_York:20260317T233000
DTSTAMP:20260421T115251
CREATED:20260128T181123Z
LAST-MODIFIED:20260128T185356Z
UID:3679-1773775800-1773790200@www.piedmontdarts.org
SUMMARY:Tuesday League - Just the Tip vs Dart Side of the Moon
DESCRIPTION:C League Schedule
URL:https://www.piedmontdarts.org/event/tuesday-league-just-the-tip-vs-dart-side-of-the-moon-2/
LOCATION:The Alibi Bar and Lounge\, 28 Salem St\, Thomasville\, NC\, 27360\, United States
CATEGORIES:Tuesday Night League
END:VEVENT
BEGIN:VEVENT
DTSTART;TZID=America/New_York:20260317T193000
DTEND;TZID=America/New_York:20260317T233000
DTSTAMP:20260421T115251
CREATED:20260128T181132Z
LAST-MODIFIED:20260128T185411Z
UID:3680-1773775800-1773790200@www.piedmontdarts.org
SUMMARY:Tuesday League - Off Target vs Village Square Idiots
DESCRIPTION:C League Schedule
URL:https://www.piedmontdarts.org/event/tuesday-league-off-target-vs-village-square-idiots-2/
LOCATION:NC
CATEGORIES:Tuesday Night League
END:VEVENT
BEGIN:VEVENT
DTSTART;TZID=America/New_York:20260317T193000
DTEND;TZID=America/New_York:20260317T233000
DTSTAMP:20260421T115251
CREATED:20260128T181133Z
LAST-MODIFIED:20260128T185411Z
UID:3681-1773775800-1773790200@www.piedmontdarts.org
SUMMARY:Tuesday League - Shanghai Society vs Little Debbie and the Snacks
DESCRIPTION:C League Schedule
URL:https://www.piedmontdarts.org/event/tuesday-league-shanghai-society-vs-little-debbie-and-the-snacks-2/
LOCATION:Breakers\, 435 Dolley Madison Rd #G\, Greensboro\, 27410\, United States
CATEGORIES:Tuesday Night League
END:VEVENT
BEGIN:VEVENT
DTSTART;TZID=America/New_York:20260317T193000
DTEND;TZID=America/New_York:20260317T233000
DTSTAMP:20260421T115251
CREATED:20260128T181133Z
LAST-MODIFIED:20260128T185411Z
UID:3682-1773775800-1773790200@www.piedmontdarts.org
SUMMARY:Tuesday League - Wire We Here vs Freedom Fighters
DESCRIPTION:C League Schedule
URL:https://www.piedmontdarts.org/event/tuesday-league-wire-we-here-vs-freedom-fighters-2/
LOCATION:Village Square Tap House\, 6000 Meadowbrook Mall Ct #\, Clemmons\, 27012\, United States
CATEGORIES:Tuesday Night League
END:VEVENT
BEGIN:VEVENT
DTSTART;TZID=America/New_York:20260318T191500
DTEND;TZID=America/New_York:20260318T233000
DTSTAMP:20260421T115251
CREATED:20260126T164053Z
LAST-MODIFIED:20260126T164426Z
UID:3495-1773861300-1773876600@www.piedmontdarts.org
SUMMARY:LOD @ Village Square Tap House
DESCRIPTION:
URL:https://www.piedmontdarts.org/event/lod-village-square-tap-house-7/
LOCATION:Village Square Tap House\, 6000 Meadowbrook Mall Ct #\, Clemmons\, 27012\, United States
CATEGORIES:Darts,LOD,Tournament
END:VEVENT
BEGIN:VEVENT
DTSTART;TZID=America/New_York:20260323T190000
DTEND;TZID=America/New_York:20260323T233000
DTSTAMP:20260421T115251
CREATED:20260126T162831Z
LAST-MODIFIED:20260126T162831Z
UID:3465-1774292400-1774308600@www.piedmontdarts.org
SUMMARY:LOD @ Old Nick’s Pub – Lewisville
DESCRIPTION:Please arrive by 6:45PM to allow time to collect fee\, draw partners and set up the tournament bracket.
URL:https://www.piedmontdarts.org/event/lod-old-nicks-pub-lewisville-9/
LOCATION:NC
CATEGORIES:Darts,LOD,Tournament
END:VEVENT
BEGIN:VEVENT
DTSTART;TZID=America/New_York:20260324T193000
DTEND;TZID=America/New_York:20260324T233000
DTSTAMP:20260421T115251
CREATED:20260128T180713Z
LAST-MODIFIED:20260128T184925Z
UID:3576-1774380600-1774395000@www.piedmontdarts.org
SUMMARY:Tuesday League - Horsemen of the Dartpocalypse vs Treble Makers
DESCRIPTION:A League Schedule
URL:https://www.piedmontdarts.org/event/tuesday-league-horsemen-of-the-dartpocalypse-vs-treble-makers-2/
LOCATION:NC
CATEGORIES:Tuesday Night League
END:VEVENT
BEGIN:VEVENT
DTSTART;TZID=America/New_York:20260324T193000
DTEND;TZID=America/New_York:20260324T233000
DTSTAMP:20260421T115251
CREATED:20260128T180713Z
LAST-MODIFIED:20260128T184926Z
UID:3577-1774380600-1774395000@www.piedmontdarts.org
SUMMARY:Tuesday League - Next Door Trippin vs Wirey Bastards
DESCRIPTION:A League Schedule
URL:https://www.piedmontdarts.org/event/tuesday-league-next-door-trippin-vs-wirey-bastards-6/
LOCATION:Breakers\, 435 Dolley Madison Rd #G\, Greensboro\, 27410\, United States
CATEGORIES:Tuesday Night League
END:VEVENT
BEGIN:VEVENT
DTSTART;TZID=America/New_York:20260324T193000
DTEND;TZID=America/New_York:20260324T233000
DTSTAMP:20260421T115251
CREATED:20260128T180713Z
LAST-MODIFIED:20260128T184926Z
UID:3578-1774380600-1774395000@www.piedmontdarts.org
SUMMARY:Tuesday League - Off Constantly vs Rumple Steel Tips
DESCRIPTION:A League Schedule
URL:https://www.piedmontdarts.org/event/tuesday-league-off-constantly-vs-rumple-steel-tips-2/
LOCATION:Old Nick’s Pub Arcadia\, 206 Millers Creek Dr. Ste A\, Winston Salem\, NC\, 27127\, United States
CATEGORIES:Tuesday Night League
END:VEVENT
BEGIN:VEVENT
DTSTART;TZID=America/New_York:20260324T193000
DTEND;TZID=America/New_York:20260324T233000
DTSTAMP:20260421T115251
CREATED:20260128T180851Z
LAST-MODIFIED:20260128T185141Z
UID:3623-1774380600-1774395000@www.piedmontdarts.org
SUMMARY:Tuesday League - PointDexters vs Full of Bull
DESCRIPTION:B League Schedule
URL:https://www.piedmontdarts.org/event/tuesday-league-pointdexters-vs-full-of-bull-2/
LOCATION:The Alibi Bar and Lounge\, 28 Salem St\, Thomasville\, NC\, 27360\, United States
CATEGORIES:Tuesday Night League
END:VEVENT
BEGIN:VEVENT
DTSTART;TZID=America/New_York:20260324T193000
DTEND;TZID=America/New_York:20260324T233000
DTSTAMP:20260421T115251
CREATED:20260128T180851Z
LAST-MODIFIED:20260128T185141Z
UID:3621-1774380600-1774395000@www.piedmontdarts.org
SUMMARY:Tuesday League - Night Flights vs BullsHit
DESCRIPTION:B League Schedule
URL:https://www.piedmontdarts.org/event/tuesday-league-night-flights-vs-bullshit-2/
LOCATION:Village Square Tap House\, 6000 Meadowbrook Mall Ct #\, Clemmons\, 27012\, United States
CATEGORIES:Tuesday Night League
END:VEVENT
END:VCALENDAR