BEGIN:VCALENDAR
VERSION:2.0
PRODID:-//Piedmont Dart Association - ECPv6.15.20//NONSGML v1.0//EN
CALSCALE:GREGORIAN
METHOD:PUBLISH
X-WR-CALNAME:Piedmont Dart Association
X-ORIGINAL-URL:https://www.piedmontdarts.org
X-WR-CALDESC:Events for Piedmont Dart Association
REFRESH-INTERVAL;VALUE=DURATION:PT1H
X-Robots-Tag:noindex
X-PUBLISHED-TTL:PT1H
BEGIN:VTIMEZONE
TZID:America/New_York
BEGIN:DAYLIGHT
TZOFFSETFROM:-0500
TZOFFSETTO:-0400
TZNAME:EDT
DTSTART:20250309T070000
END:DAYLIGHT
BEGIN:STANDARD
TZOFFSETFROM:-0400
TZOFFSETTO:-0500
TZNAME:EST
DTSTART:20251102T060000
END:STANDARD
BEGIN:DAYLIGHT
TZOFFSETFROM:-0500
TZOFFSETTO:-0400
TZNAME:EDT
DTSTART:20260308T070000
END:DAYLIGHT
BEGIN:STANDARD
TZOFFSETFROM:-0400
TZOFFSETTO:-0500
TZNAME:EST
DTSTART:20261101T060000
END:STANDARD
BEGIN:DAYLIGHT
TZOFFSETFROM:-0500
TZOFFSETTO:-0400
TZNAME:EDT
DTSTART:20270314T070000
END:DAYLIGHT
BEGIN:STANDARD
TZOFFSETFROM:-0400
TZOFFSETTO:-0500
TZNAME:EST
DTSTART:20271107T060000
END:STANDARD
END:VTIMEZONE
BEGIN:VEVENT
DTSTART;TZID=America/New_York:20260218T191500
DTEND;TZID=America/New_York:20260218T233000
DTSTAMP:20260421T205015
CREATED:20260126T164044Z
LAST-MODIFIED:20260126T164419Z
UID:3491-1771442100-1771457400@www.piedmontdarts.org
SUMMARY:LOD @ Village Square Tap House
DESCRIPTION:
URL:https://www.piedmontdarts.org/event/lod-village-square-tap-house-4/
LOCATION:Village Square Tap House\, 6000 Meadowbrook Mall Ct #\, Clemmons\, 27012\, United States
CATEGORIES:Darts,LOD,Tournament
END:VEVENT
BEGIN:VEVENT
DTSTART;TZID=America/New_York:20260223T190000
DTEND;TZID=America/New_York:20260223T233000
DTSTAMP:20260421T205015
CREATED:20260126T162822Z
LAST-MODIFIED:20260126T162822Z
UID:3461-1771873200-1771889400@www.piedmontdarts.org
SUMMARY:LOD @ Old Nick’s Pub – Lewisville
DESCRIPTION:Please arrive by 6:45PM to allow time to collect fee\, draw partners and set up the tournament bracket.
URL:https://www.piedmontdarts.org/event/lod-old-nicks-pub-lewisville-5/
CATEGORIES:Darts,LOD,Tournament
END:VEVENT
BEGIN:VEVENT
DTSTART;TZID=America/New_York:20260224T193000
DTEND;TZID=America/New_York:20260224T233000
DTSTAMP:20260421T205015
CREATED:20260128T171024Z
LAST-MODIFIED:20260128T184815Z
UID:3564-1771961400-1771975800@www.piedmontdarts.org
SUMMARY:Tuesday League - Horsemen of the Dartpocalypse vs Wirey Bastards
DESCRIPTION:A League Schedule
URL:https://www.piedmontdarts.org/event/tuesday-league-horsemen-of-the-dartpocalypse-vs-wirey-bastards-3/
CATEGORIES:Tuesday Night League
END:VEVENT
BEGIN:VEVENT
DTSTART;TZID=America/New_York:20260224T193000
DTEND;TZID=America/New_York:20260224T233000
DTSTAMP:20260421T205015
CREATED:20260128T171031Z
LAST-MODIFIED:20260128T184830Z
UID:3565-1771961400-1771975800@www.piedmontdarts.org
SUMMARY:Tuesday League - Next Door Trippin vs Rumple Steel Tips
DESCRIPTION:A League Schedule
URL:https://www.piedmontdarts.org/event/tuesday-league-next-door-trippin-vs-rumple-steel-tips-3/
LOCATION:Breakers\, 435 Dolley Madison Rd #G\, Greensboro\, 27410\, United States
CATEGORIES:Tuesday Night League
END:VEVENT
BEGIN:VEVENT
DTSTART;TZID=America/New_York:20260224T193000
DTEND;TZID=America/New_York:20260224T233000
DTSTAMP:20260421T205015
CREATED:20260128T171031Z
LAST-MODIFIED:20260128T184830Z
UID:3566-1771961400-1771975800@www.piedmontdarts.org
SUMMARY:Tuesday League - Off Constantly vs Treble Makers
DESCRIPTION:A League Schedule
URL:https://www.piedmontdarts.org/event/tuesday-league-off-constantly-vs-treble-makers-3/
LOCATION:Old Nick’s Pub Arcadia\, 206 Millers Creek Dr. Ste A\, Winston Salem\, NC\, 27127\, United States
CATEGORIES:Tuesday Night League
END:VEVENT
BEGIN:VEVENT
DTSTART;TZID=America/New_York:20260224T193000
DTEND;TZID=America/New_York:20260224T233000
DTSTAMP:20260421T205015
CREATED:20260128T180815Z
LAST-MODIFIED:20260128T185056Z
UID:3609-1771961400-1771975800@www.piedmontdarts.org
SUMMARY:Tuesday League - Night Flights vs Taking Flight
DESCRIPTION:B League Schedule
URL:https://www.piedmontdarts.org/event/tuesday-league-night-flights-vs-taking-flight-3/
LOCATION:Village Square Tap House\, 6000 Meadowbrook Mall Ct #\, Clemmons\, 27012\, United States
CATEGORIES:Tuesday Night League
END:VEVENT
BEGIN:VEVENT
DTSTART;TZID=America/New_York:20260224T193000
DTEND;TZID=America/New_York:20260224T233000
DTSTAMP:20260421T205015
CREATED:20260128T180827Z
LAST-MODIFIED:20260128T185110Z
UID:3610-1771961400-1771975800@www.piedmontdarts.org
SUMMARY:Tuesday League - Old Darty Bastards vs Full of Bull
DESCRIPTION:B League Schedule
URL:https://www.piedmontdarts.org/event/tuesday-league-old-darty-bastards-vs-full-of-bull-3/
LOCATION:Breakers\, 435 Dolley Madison Rd #G\, Greensboro\, 27410\, United States
CATEGORIES:Tuesday Night League
END:VEVENT
BEGIN:VEVENT
DTSTART;TZID=America/New_York:20260224T193000
DTEND;TZID=America/New_York:20260224T233000
DTSTAMP:20260421T205015
CREATED:20260128T180827Z
LAST-MODIFIED:20260128T185111Z
UID:3611-1771961400-1771975800@www.piedmontdarts.org
SUMMARY:Tuesday League - PointDexters vs BullsHit
DESCRIPTION:B League Schedule
URL:https://www.piedmontdarts.org/event/tuesday-league-pointdexters-vs-bullshit-3/
LOCATION:The Alibi Bar and Lounge\, 28 Salem St\, Thomasville\, NC\, 27360\, United States
CATEGORIES:Tuesday Night League
END:VEVENT
BEGIN:VEVENT
DTSTART;TZID=America/New_York:20260224T193000
DTEND;TZID=America/New_York:20260224T233000
DTSTAMP:20260421T205015
CREATED:20260128T181059Z
LAST-MODIFIED:20260128T185326Z
UID:3667-1771961400-1771975800@www.piedmontdarts.org
SUMMARY:Tuesday League - Just the Tip vs Freedom Fighters
DESCRIPTION:C League Schedule
URL:https://www.piedmontdarts.org/event/tuesday-league-just-the-tip-vs-freedom-fighters-3/
LOCATION:The Alibi Bar and Lounge\, 28 Salem St\, Thomasville\, NC\, 27360\, United States
CATEGORIES:Tuesday Night League
END:VEVENT
BEGIN:VEVENT
DTSTART;TZID=America/New_York:20260224T193000
DTEND;TZID=America/New_York:20260224T233000
DTSTAMP:20260421T205015
CREATED:20260128T181059Z
LAST-MODIFIED:20260128T185326Z
UID:3668-1771961400-1771975800@www.piedmontdarts.org
SUMMARY:Tuesday League - Off Target vs Little Debbie and the Snacks
DESCRIPTION:C League Schedule
URL:https://www.piedmontdarts.org/event/tuesday-league-off-target-vs-little-debbie-and-the-snacks-2/
CATEGORIES:Tuesday Night League
END:VEVENT
BEGIN:VEVENT
DTSTART;TZID=America/New_York:20260224T193000
DTEND;TZID=America/New_York:20260224T233000
DTSTAMP:20260421T205015
CREATED:20260128T181059Z
LAST-MODIFIED:20260128T185326Z
UID:3669-1771961400-1771975800@www.piedmontdarts.org
SUMMARY:Tuesday League - Shanghai Society vs Wire We Here
DESCRIPTION:C League Schedule
URL:https://www.piedmontdarts.org/event/tuesday-league-shanghai-society-vs-wire-we-here-2/
LOCATION:Breakers\, 435 Dolley Madison Rd #G\, Greensboro\, 27410\, United States
CATEGORIES:Tuesday Night League
END:VEVENT
BEGIN:VEVENT
DTSTART;TZID=America/New_York:20260224T193000
DTEND;TZID=America/New_York:20260224T233000
DTSTAMP:20260421T205015
CREATED:20260128T181112Z
LAST-MODIFIED:20260128T185341Z
UID:3670-1771961400-1771975800@www.piedmontdarts.org
SUMMARY:Tuesday League - Village Square Idiots vs Dart Side of the Moon
DESCRIPTION:C League Schedule
URL:https://www.piedmontdarts.org/event/tuesday-league-village-square-idiots-vs-dart-side-of-the-moon-2/
LOCATION:Village Square Tap House\, 6000 Meadowbrook Mall Ct #\, Clemmons\, 27012\, United States
CATEGORIES:Tuesday Night League
END:VEVENT
BEGIN:VEVENT
DTSTART;TZID=America/New_York:20260225T191500
DTEND;TZID=America/New_York:20260225T233000
DTSTAMP:20260421T205015
CREATED:20260126T164044Z
LAST-MODIFIED:20260126T164420Z
UID:3492-1772046900-1772062200@www.piedmontdarts.org
SUMMARY:LOD @ Village Square Tap House
DESCRIPTION:
URL:https://www.piedmontdarts.org/event/lod-village-square-tap-house-5/
LOCATION:Village Square Tap House\, 6000 Meadowbrook Mall Ct #\, Clemmons\, 27012\, United States
CATEGORIES:Darts,LOD,Tournament
END:VEVENT
BEGIN:VEVENT
DTSTART;TZID=America/New_York:20260302T190000
DTEND;TZID=America/New_York:20260302T233000
DTSTAMP:20260421T205015
CREATED:20260126T162831Z
LAST-MODIFIED:20260126T162831Z
UID:3462-1772478000-1772494200@www.piedmontdarts.org
SUMMARY:LOD @ Old Nick’s Pub – Lewisville
DESCRIPTION:Please arrive by 6:45PM to allow time to collect fee\, draw partners and set up the tournament bracket.
URL:https://www.piedmontdarts.org/event/lod-old-nicks-pub-lewisville-6/
CATEGORIES:Darts,LOD,Tournament
END:VEVENT
BEGIN:VEVENT
DTSTART;TZID=America/New_York:20260303T193000
DTEND;TZID=America/New_York:20260303T233000
DTSTAMP:20260421T205015
CREATED:20260128T171031Z
LAST-MODIFIED:20260128T184830Z
UID:3567-1772566200-1772580600@www.piedmontdarts.org
SUMMARY:Tuesday League - Off Constantly vs Horsemen of the Dartpocalypse
DESCRIPTION:A League Schedule
URL:https://www.piedmontdarts.org/event/tuesday-league-off-constantly-vs-horsemen-of-the-dartpocalypse-3/
LOCATION:Old Nick’s Pub Arcadia\, 206 Millers Creek Dr. Ste A\, Winston Salem\, NC\, 27127\, United States
CATEGORIES:Tuesday Night League
END:VEVENT
BEGIN:VEVENT
DTSTART;TZID=America/New_York:20260303T193000
DTEND;TZID=America/New_York:20260303T233000
DTSTAMP:20260421T205015
CREATED:20260128T171032Z
LAST-MODIFIED:20260128T184830Z
UID:3568-1772566200-1772580600@www.piedmontdarts.org
SUMMARY:Tuesday League - Rumple Steel Tips vs Wirey Bastards
DESCRIPTION:A League Schedule
URL:https://www.piedmontdarts.org/event/tuesday-league-rumple-steel-tips-vs-wirey-bastards-3/
LOCATION:Tavern (Century Park)\, 214 Century Blvd\, Kernersville\, NC\, 27284\, United States
CATEGORIES:Tuesday Night League
END:VEVENT
BEGIN:VEVENT
DTSTART;TZID=America/New_York:20260303T193000
DTEND;TZID=America/New_York:20260303T233000
DTSTAMP:20260421T205015
CREATED:20260128T171032Z
LAST-MODIFIED:20260128T184830Z
UID:3569-1772566200-1772580600@www.piedmontdarts.org
SUMMARY:Tuesday League - Treble Makers vs Next Door Trippin
DESCRIPTION:A League Schedule
URL:https://www.piedmontdarts.org/event/tuesday-league-treble-makers-vs-next-door-trippin-3/
LOCATION:Breakers\, 435 Dolley Madison Rd #G\, Greensboro\, 27410\, United States
CATEGORIES:Tuesday Night League
END:VEVENT
BEGIN:VEVENT
DTSTART;TZID=America/New_York:20260303T193000
DTEND;TZID=America/New_York:20260303T233000
DTSTAMP:20260421T205015
CREATED:20260128T180827Z
LAST-MODIFIED:20260128T185111Z
UID:3612-1772566200-1772580600@www.piedmontdarts.org
SUMMARY:Tuesday League - BullsHit vs Old Darty Bastards
DESCRIPTION:B League Schedule
URL:https://www.piedmontdarts.org/event/tuesday-league-bullshit-vs-old-darty-bastards-3/
LOCATION:Breakers\, 435 Dolley Madison Rd #G\, Greensboro\, 27410\, United States
CATEGORIES:Tuesday Night League
END:VEVENT
BEGIN:VEVENT
DTSTART;TZID=America/New_York:20260303T193000
DTEND;TZID=America/New_York:20260303T233000
DTSTAMP:20260421T205015
CREATED:20260128T180828Z
LAST-MODIFIED:20260128T185111Z
UID:3613-1772566200-1772580600@www.piedmontdarts.org
SUMMARY:Tuesday League - Full of Bull vs Taking Flight
DESCRIPTION:B League Schedule
URL:https://www.piedmontdarts.org/event/tuesday-league-full-of-bull-vs-taking-flight-5/
LOCATION:Old Nick’s Pub – Lewisville\, 191 Lowes Foods Dr.\, Lewisville\, 27023\, United States
CATEGORIES:Tuesday Night League
END:VEVENT
BEGIN:VEVENT
DTSTART;TZID=America/New_York:20260303T193000
DTEND;TZID=America/New_York:20260303T233000
DTSTAMP:20260421T205015
CREATED:20260128T180828Z
LAST-MODIFIED:20260128T185111Z
UID:3614-1772566200-1772580600@www.piedmontdarts.org
SUMMARY:Tuesday League - PointDexters vs Night Flights
DESCRIPTION:B League Schedule
URL:https://www.piedmontdarts.org/event/tuesday-league-pointdexters-vs-night-flights-4/
LOCATION:The Alibi Bar and Lounge\, 28 Salem St\, Thomasville\, NC\, 27360\, United States
CATEGORIES:Tuesday Night League
END:VEVENT
BEGIN:VEVENT
DTSTART;TZID=America/New_York:20260303T193000
DTEND;TZID=America/New_York:20260303T233000
DTSTAMP:20260421T205015
CREATED:20260128T181113Z
LAST-MODIFIED:20260128T185341Z
UID:3671-1772566200-1772580600@www.piedmontdarts.org
SUMMARY:Tuesday League - Freedom Fighters vs Village Square Idiots
DESCRIPTION:C League Schedule
URL:https://www.piedmontdarts.org/event/tuesday-league-freedom-fighters-vs-village-square-idiots-3/
LOCATION:Greensboro Elks Lodge\, 2201 W. Cornwallis Drive\, Greensboro\, NC\, 27408\, United States
CATEGORIES:Tuesday Night League
END:VEVENT
BEGIN:VEVENT
DTSTART;TZID=America/New_York:20260303T193000
DTEND;TZID=America/New_York:20260303T233000
DTSTAMP:20260421T205015
CREATED:20260128T181113Z
LAST-MODIFIED:20260128T185341Z
UID:3672-1772566200-1772580600@www.piedmontdarts.org
SUMMARY:Tuesday League - Just the Tip vs Shanghai Society
DESCRIPTION:C League Schedule
URL:https://www.piedmontdarts.org/event/tuesday-league-just-the-tip-vs-shanghai-society-2/
LOCATION:The Alibi Bar and Lounge\, 28 Salem St\, Thomasville\, NC\, 27360\, United States
CATEGORIES:Tuesday Night League
END:VEVENT
BEGIN:VEVENT
DTSTART;TZID=America/New_York:20260303T193000
DTEND;TZID=America/New_York:20260303T233000
DTSTAMP:20260421T205015
CREATED:20260128T181113Z
LAST-MODIFIED:20260128T185341Z
UID:3673-1772566200-1772580600@www.piedmontdarts.org
SUMMARY:Tuesday League - Little Debbie and the Snacks vs Dart Side of the Moon
DESCRIPTION:C League Schedule
URL:https://www.piedmontdarts.org/event/tuesday-league-little-debbie-and-the-snacks-vs-dart-side-of-the-moon-2/
LOCATION:Tavern (Century Park)\, 214 Century Blvd\, Kernersville\, NC\, 27284\, United States
CATEGORIES:Tuesday Night League
END:VEVENT
BEGIN:VEVENT
DTSTART;TZID=America/New_York:20260303T193000
DTEND;TZID=America/New_York:20260303T233000
DTSTAMP:20260421T205015
CREATED:20260128T181113Z
LAST-MODIFIED:20260128T185341Z
UID:3674-1772566200-1772580600@www.piedmontdarts.org
SUMMARY:Tuesday League - Wire We Here vs Off Target
DESCRIPTION:C League Schedule
URL:https://www.piedmontdarts.org/event/tuesday-league-wire-we-here-vs-off-target-2/
LOCATION:Village Square Tap House\, 6000 Meadowbrook Mall Ct #\, Clemmons\, 27012\, United States
CATEGORIES:Tuesday Night League
END:VEVENT
BEGIN:VEVENT
DTSTART;TZID=America/New_York:20260304T191500
DTEND;TZID=America/New_York:20260304T233000
DTSTAMP:20260421T205015
CREATED:20260126T164053Z
LAST-MODIFIED:20260126T164426Z
UID:3493-1772651700-1772667000@www.piedmontdarts.org
SUMMARY:LOD @ Village Square Tap House
DESCRIPTION:
URL:https://www.piedmontdarts.org/event/lod-village-square-tap-house-6/
LOCATION:Village Square Tap House\, 6000 Meadowbrook Mall Ct #\, Clemmons\, 27012\, United States
CATEGORIES:Darts,LOD,Tournament
END:VEVENT
BEGIN:VEVENT
DTSTART;TZID=America/New_York:20260309T190000
DTEND;TZID=America/New_York:20260309T233000
DTSTAMP:20260421T205015
CREATED:20260126T162831Z
LAST-MODIFIED:20260126T162831Z
UID:3463-1773082800-1773099000@www.piedmontdarts.org
SUMMARY:LOD @ Old Nick’s Pub – Lewisville
DESCRIPTION:Please arrive by 6:45PM to allow time to collect fee\, draw partners and set up the tournament bracket.
URL:https://www.piedmontdarts.org/event/lod-old-nicks-pub-lewisville-7/
CATEGORIES:Darts,LOD,Tournament
END:VEVENT
BEGIN:VEVENT
DTSTART;TZID=America/New_York:20260310T193000
DTEND;TZID=America/New_York:20260310T233000
DTSTAMP:20260421T205015
CREATED:20260128T180706Z
LAST-MODIFIED:20260128T184911Z
UID:3570-1773171000-1773185400@www.piedmontdarts.org
SUMMARY:Tuesday League - Next Door Trippin vs Horsemen of the Dartpocalypse
DESCRIPTION:A League Schedule
URL:https://www.piedmontdarts.org/event/tuesday-league-next-door-trippin-vs-horsemen-of-the-dartpocalypse-2/
LOCATION:Breakers\, 435 Dolley Madison Rd #G\, Greensboro\, 27410\, United States
CATEGORIES:Tuesday Night League
END:VEVENT
BEGIN:VEVENT
DTSTART;TZID=America/New_York:20260310T193000
DTEND;TZID=America/New_York:20260310T233000
DTSTAMP:20260421T205015
CREATED:20260128T180707Z
LAST-MODIFIED:20260128T184911Z
UID:3571-1773171000-1773185400@www.piedmontdarts.org
SUMMARY:Tuesday League - Rumple Steel Tips vs Treble Makers
DESCRIPTION:A League Schedule
URL:https://www.piedmontdarts.org/event/tuesday-league-rumple-steel-tips-vs-treble-makers-2/
LOCATION:Tavern (Century Park)\, 214 Century Blvd\, Kernersville\, NC\, 27284\, United States
CATEGORIES:Tuesday Night League
END:VEVENT
BEGIN:VEVENT
DTSTART;TZID=America/New_York:20260310T193000
DTEND;TZID=America/New_York:20260310T233000
DTSTAMP:20260421T205015
CREATED:20260128T180707Z
LAST-MODIFIED:20260128T184911Z
UID:3572-1773171000-1773185400@www.piedmontdarts.org
SUMMARY:Tuesday League - Wirey Bastards vs Off Constantly
DESCRIPTION:A League Schedule
URL:https://www.piedmontdarts.org/event/tuesday-league-wirey-bastards-vs-off-constantly-4/
LOCATION:Breakers\, 435 Dolley Madison Rd #G\, Greensboro\, 27410\, United States
CATEGORIES:Tuesday Night League
END:VEVENT
BEGIN:VEVENT
DTSTART;TZID=America/New_York:20260310T193000
DTEND;TZID=America/New_York:20260310T233000
DTSTAMP:20260421T205015
CREATED:20260128T180837Z
LAST-MODIFIED:20260128T185126Z
UID:3615-1773171000-1773185400@www.piedmontdarts.org
SUMMARY:Tuesday League - Full of Bull vs BullsHit
DESCRIPTION:B League Schedule
URL:https://www.piedmontdarts.org/event/tuesday-league-full-of-bull-vs-bullshit-2/
LOCATION:Old Nick’s Pub – Lewisville\, 191 Lowes Foods Dr.\, Lewisville\, 27023\, United States
CATEGORIES:Tuesday Night League
END:VEVENT
END:VCALENDAR