BEGIN:VCALENDAR
VERSION:2.0
PRODID:-//Piedmont Dart Association - ECPv6.15.20//NONSGML v1.0//EN
CALSCALE:GREGORIAN
METHOD:PUBLISH
X-WR-CALNAME:Piedmont Dart Association
X-ORIGINAL-URL:https://www.piedmontdarts.org
X-WR-CALDESC:Events for Piedmont Dart Association
REFRESH-INTERVAL;VALUE=DURATION:PT1H
X-Robots-Tag:noindex
X-PUBLISHED-TTL:PT1H
BEGIN:VTIMEZONE
TZID:America/New_York
BEGIN:DAYLIGHT
TZOFFSETFROM:-0500
TZOFFSETTO:-0400
TZNAME:EDT
DTSTART:20250309T070000
END:DAYLIGHT
BEGIN:STANDARD
TZOFFSETFROM:-0400
TZOFFSETTO:-0500
TZNAME:EST
DTSTART:20251102T060000
END:STANDARD
BEGIN:DAYLIGHT
TZOFFSETFROM:-0500
TZOFFSETTO:-0400
TZNAME:EDT
DTSTART:20260308T070000
END:DAYLIGHT
BEGIN:STANDARD
TZOFFSETFROM:-0400
TZOFFSETTO:-0500
TZNAME:EST
DTSTART:20261101T060000
END:STANDARD
BEGIN:DAYLIGHT
TZOFFSETFROM:-0500
TZOFFSETTO:-0400
TZNAME:EDT
DTSTART:20270314T070000
END:DAYLIGHT
BEGIN:STANDARD
TZOFFSETFROM:-0400
TZOFFSETTO:-0500
TZNAME:EST
DTSTART:20271107T060000
END:STANDARD
END:VTIMEZONE
BEGIN:VEVENT
DTSTART;TZID=America/New_York:20260603T191500
DTEND;TZID=America/New_York:20260603T233000
DTSTAMP:20260421T192128
CREATED:20260126T164207Z
LAST-MODIFIED:20260126T164827Z
UID:3506-1780514100-1780529400@www.piedmontdarts.org
SUMMARY:LOD @ Village Square Tap House
DESCRIPTION:
URL:https://www.piedmontdarts.org/event/lod-village-square-tap-house-44/
LOCATION:Village Square Tap House\, 6000 Meadowbrook Mall Ct #\, Clemmons\, 27012\, United States
CATEGORIES:Darts,LOD,Tournament
END:VEVENT
BEGIN:VEVENT
DTSTART;TZID=America/New_York:20260608T190000
DTEND;TZID=America/New_York:20260608T233000
DTSTAMP:20260421T192128
CREATED:20260126T163049Z
LAST-MODIFIED:20260126T163049Z
UID:3476-1780945200-1780961400@www.piedmontdarts.org
SUMMARY:LOD @ Old Nick’s Pub – Lewisville
DESCRIPTION:Please arrive by 6:45PM to allow time to collect fee\, draw partners and set up the tournament bracket.
URL:https://www.piedmontdarts.org/event/lod-old-nicks-pub-lewisville-47/
CATEGORIES:Darts,LOD,Tournament
END:VEVENT
BEGIN:VEVENT
DTSTART;TZID=America/New_York:20260610T191500
DTEND;TZID=America/New_York:20260610T233000
DTSTAMP:20260421T192128
CREATED:20260126T164208Z
LAST-MODIFIED:20260126T164827Z
UID:3507-1781118900-1781134200@www.piedmontdarts.org
SUMMARY:LOD @ Village Square Tap House
DESCRIPTION:
URL:https://www.piedmontdarts.org/event/lod-village-square-tap-house-45/
LOCATION:Village Square Tap House\, 6000 Meadowbrook Mall Ct #\, Clemmons\, 27012\, United States
CATEGORIES:Darts,LOD,Tournament
END:VEVENT
BEGIN:VEVENT
DTSTART;TZID=America/New_York:20260615T190000
DTEND;TZID=America/New_York:20260615T233000
DTSTAMP:20260421T192128
CREATED:20260126T163250Z
LAST-MODIFIED:20260126T163250Z
UID:3477-1781550000-1781566200@www.piedmontdarts.org
SUMMARY:LOD @ Old Nick’s Pub – Lewisville
DESCRIPTION:Please arrive by 6:45PM to allow time to collect fee\, draw partners and set up the tournament bracket.
URL:https://www.piedmontdarts.org/event/lod-old-nicks-pub-lewisville-48/
CATEGORIES:Darts,LOD,Tournament
END:VEVENT
BEGIN:VEVENT
DTSTART;TZID=America/New_York:20260617T191500
DTEND;TZID=America/New_York:20260617T233000
DTSTAMP:20260421T192128
CREATED:20260126T164221Z
LAST-MODIFIED:20260126T165026Z
UID:3508-1781723700-1781739000@www.piedmontdarts.org
SUMMARY:LOD @ Village Square Tap House
DESCRIPTION:
URL:https://www.piedmontdarts.org/event/lod-village-square-tap-house-46/
LOCATION:Village Square Tap House\, 6000 Meadowbrook Mall Ct #\, Clemmons\, 27012\, United States
CATEGORIES:Darts,LOD,Tournament
END:VEVENT
BEGIN:VEVENT
DTSTART;TZID=America/New_York:20260622T190000
DTEND;TZID=America/New_York:20260622T233000
DTSTAMP:20260421T192128
CREATED:20260126T163250Z
LAST-MODIFIED:20260126T163250Z
UID:3478-1782154800-1782171000@www.piedmontdarts.org
SUMMARY:LOD @ Old Nick’s Pub – Lewisville
DESCRIPTION:Please arrive by 6:45PM to allow time to collect fee\, draw partners and set up the tournament bracket.
URL:https://www.piedmontdarts.org/event/lod-old-nicks-pub-lewisville-49/
CATEGORIES:Darts,LOD,Tournament
END:VEVENT
BEGIN:VEVENT
DTSTART;TZID=America/New_York:20260624T191500
DTEND;TZID=America/New_York:20260624T233000
DTSTAMP:20260421T192128
CREATED:20260126T164221Z
LAST-MODIFIED:20260126T165027Z
UID:3509-1782328500-1782343800@www.piedmontdarts.org
SUMMARY:LOD @ Village Square Tap House
DESCRIPTION:
URL:https://www.piedmontdarts.org/event/lod-village-square-tap-house-47/
LOCATION:Village Square Tap House\, 6000 Meadowbrook Mall Ct #\, Clemmons\, 27012\, United States
CATEGORIES:Darts,LOD,Tournament
END:VEVENT
BEGIN:VEVENT
DTSTART;TZID=America/New_York:20260706T190000
DTEND;TZID=America/New_York:20260706T233000
DTSTAMP:20260421T192128
CREATED:20260126T163250Z
LAST-MODIFIED:20260126T163250Z
UID:3479-1783364400-1783380600@www.piedmontdarts.org
SUMMARY:LOD @ Old Nick’s Pub – Lewisville
DESCRIPTION:Please arrive by 6:45PM to allow time to collect fee\, draw partners and set up the tournament bracket.
URL:https://www.piedmontdarts.org/event/lod-old-nicks-pub-lewisville-50/
CATEGORIES:Darts,LOD,Tournament
END:VEVENT
BEGIN:VEVENT
DTSTART;TZID=America/New_York:20260708T191500
DTEND;TZID=America/New_York:20260708T233000
DTSTAMP:20260421T192128
CREATED:20260126T164221Z
LAST-MODIFIED:20260126T165027Z
UID:3510-1783538100-1783553400@www.piedmontdarts.org
SUMMARY:LOD @ Village Square Tap House
DESCRIPTION:
URL:https://www.piedmontdarts.org/event/lod-village-square-tap-house-48/
LOCATION:Village Square Tap House\, 6000 Meadowbrook Mall Ct #\, Clemmons\, 27012\, United States
CATEGORIES:Darts,LOD,Tournament
END:VEVENT
BEGIN:VEVENT
DTSTART;TZID=America/New_York:20260713T190000
DTEND;TZID=America/New_York:20260713T233000
DTSTAMP:20260421T192128
CREATED:20260126T163250Z
LAST-MODIFIED:20260126T163250Z
UID:3480-1783969200-1783985400@www.piedmontdarts.org
SUMMARY:LOD @ Old Nick’s Pub – Lewisville
DESCRIPTION:Please arrive by 6:45PM to allow time to collect fee\, draw partners and set up the tournament bracket.
URL:https://www.piedmontdarts.org/event/lod-old-nicks-pub-lewisville-51/
CATEGORIES:Darts,LOD,Tournament
END:VEVENT
BEGIN:VEVENT
DTSTART;TZID=America/New_York:20260715T191500
DTEND;TZID=America/New_York:20260715T233000
DTSTAMP:20260421T192128
CREATED:20260126T164222Z
LAST-MODIFIED:20260126T165027Z
UID:3511-1784142900-1784158200@www.piedmontdarts.org
SUMMARY:LOD @ Village Square Tap House
DESCRIPTION:
URL:https://www.piedmontdarts.org/event/lod-village-square-tap-house-49/
LOCATION:Village Square Tap House\, 6000 Meadowbrook Mall Ct #\, Clemmons\, 27012\, United States
CATEGORIES:Darts,LOD,Tournament
END:VEVENT
BEGIN:VEVENT
DTSTART;TZID=America/New_York:20260720T190000
DTEND;TZID=America/New_York:20260720T233000
DTSTAMP:20260421T192128
CREATED:20260126T163251Z
LAST-MODIFIED:20260126T163251Z
UID:3481-1784574000-1784590200@www.piedmontdarts.org
SUMMARY:LOD @ Old Nick’s Pub – Lewisville
DESCRIPTION:Please arrive by 6:45PM to allow time to collect fee\, draw partners and set up the tournament bracket.
URL:https://www.piedmontdarts.org/event/lod-old-nicks-pub-lewisville-52/
CATEGORIES:Darts,LOD,Tournament
END:VEVENT
BEGIN:VEVENT
DTSTART;TZID=America/New_York:20260722T191500
DTEND;TZID=America/New_York:20260722T233000
DTSTAMP:20260421T192128
CREATED:20260126T164222Z
LAST-MODIFIED:20260126T165027Z
UID:3512-1784747700-1784763000@www.piedmontdarts.org
SUMMARY:LOD @ Village Square Tap House
DESCRIPTION:
URL:https://www.piedmontdarts.org/event/lod-village-square-tap-house-50/
LOCATION:Village Square Tap House\, 6000 Meadowbrook Mall Ct #\, Clemmons\, 27012\, United States
CATEGORIES:Darts,LOD,Tournament
END:VEVENT
BEGIN:VEVENT
DTSTART;TZID=America/New_York:20260727T190000
DTEND;TZID=America/New_York:20260727T233000
DTSTAMP:20260421T192128
CREATED:20260126T163450Z
LAST-MODIFIED:20260126T163450Z
UID:3482-1785178800-1785195000@www.piedmontdarts.org
SUMMARY:LOD @ Old Nick’s Pub – Lewisville
DESCRIPTION:Please arrive by 6:45PM to allow time to collect fee\, draw partners and set up the tournament bracket.
URL:https://www.piedmontdarts.org/event/lod-old-nicks-pub-lewisville-53/
CATEGORIES:Darts,LOD,Tournament
END:VEVENT
BEGIN:VEVENT
DTSTART;TZID=America/New_York:20260803T190000
DTEND;TZID=America/New_York:20260803T233000
DTSTAMP:20260421T192128
CREATED:20260126T163451Z
LAST-MODIFIED:20260126T163451Z
UID:3483-1785783600-1785799800@www.piedmontdarts.org
SUMMARY:LOD @ Old Nick’s Pub – Lewisville
DESCRIPTION:Please arrive by 6:45PM to allow time to collect fee\, draw partners and set up the tournament bracket.
URL:https://www.piedmontdarts.org/event/lod-old-nicks-pub-lewisville-54/
CATEGORIES:Darts,LOD,Tournament
END:VEVENT
END:VCALENDAR